BEGIN:VCALENDAR
VERSION:2.0
PRODID:-//ChamberMaster//Event Calendar 2.0//EN
METHOD:PUBLISH
X-PUBLISHED-TTL:P3D
REFRESH-INTERVAL:P3D
CALSCALE:GREGORIAN
BEGIN:VEVENT
DTSTART:20181207T160000Z
DTEND:20181207T180000Z
X-MICROSOFT-CDO-ALLDAYEVENT:FALSE
SUMMARY:University Center Informational Meeting
DESCRIPTION:Want to learn more about M State's new University Center? An informational meeting is scheduled for Friday\, December 7th at our Fergus Falls campus. Current students\, prospective students\, M State staff and faculty and community members are invited to attend. Students at the UCenter in Fergus Falls are able to earn these bachelor's degrees from Minnesota State University Moorhead: Bachelor of Science in Business (several tracks) Bachelor of Science in Project Management (several tracks) Bachelor of Science in Nursing (RN to BSN) The UCenter on the Fergus Falls campus will be located in the existing tutoring and academic center until renovation of the library wing is completed in 2020.
X-ALT-DESC;FMTTYPE=text/html:Want to learn more about M State&#39\;s new University Center? An informational meeting is scheduled for Friday\, December 7th at our Fergus Falls campus. Current students\, prospective students\, M State staff and faculty and community members are invited to attend. Students at the UCenter in Fergus Falls are able to earn these bachelor&#39\;s degrees from Minnesota State University Moorhead: Bachelor of Science in Business (several tracks) Bachelor of Science in Project Management (several tracks) Bachelor of Science in Nursing (RN to BSN) The UCenter on the Fergus Falls campus will be located in the existing tutoring and academic center until renovation of the library wing is completed in 2020.
LOCATION:M State Fergus Falls (Legacy Hall)
UID:e.314.51967
SEQUENCE:3
DTSTAMP:20260423T122235Z
URL:https://business.fergusfalls.com/events/details/university-center-informational-meeting-51967
END:VEVENT

END:VCALENDAR
