BEGIN:VCALENDAR
VERSION:2.0
PRODID:-//ChamberMaster//Event Calendar 2.0//EN
METHOD:PUBLISH
X-PUBLISHED-TTL:P3D
REFRESH-INTERVAL:P3D
CALSCALE:GREGORIAN
BEGIN:VEVENT
DTSTART:20170501T223000Z
DTEND:20170502T010000Z
X-MICROSOFT-CDO-ALLDAYEVENT:FALSE
SUMMARY:V.F.W. “Buddy” Poppy Veterans Fundraiser
DESCRIPTION:Fergus Falls VFW Post 612 & Auxiliary \n\nPlease join us as we kick off our 2017 campaign \n\nV.F.W. "Buddy" Poppy \n\nVeterans Fundraiser \n\nMonday\, May 1st\, 2017 \n\n5:30 p.m.   8:00 p.m. \n\nVFW Post 612\, 420 E. Washington Avenue\, Fergus Falls\, MN \n\nMeatball Dinner - $10 \n\nMashed Potatoes\, Gravy\, Vegetable\, Roll\, Dessert \nDrink Specials\n\nCharitable Gaming\n\nMay 1st is Loyalty Day   a time to reaffirm our patriotism. The Buddy Poppy represents the bloodshed of American service members. \n\nDonations are welcome but not required to receive a Buddy Poppy. Support your local VFW Post and wear a Poppy for a veteran during the month of May and especially on Memorial Day. We will not forget their sacrifices! \n\nJOIN THE COMMUNITY CHALLENGE! #ffpoppypride\n\nMonies received are locally maintained and distributed by V.F.W. Post 612 & Auxiliary in a separate "Relief Fund" account and can only be used in assisting needy and disabled Veterans\, their families and the widows and orphans of veterans. Thank you for your support!
X-ALT-DESC;FMTTYPE=text/html:<p align="LEFT"><span style="font-size: 20px\;">Fergus Falls VFW Post 612 &amp\; Auxiliary </span></p>\n\n<p><span style="font-size: 16px\;"><i><font face="Monotype Corsiva\,Corsiva"><font face="Monotype Corsiva\,Corsiva">Please join us as we kick off our 2017 campaign </font></font></i></span></p>\n\n<p><font face="Impact\,Impact" size="7"><font face="Impact\,Impact" size="7">V.F.W. &quot\;Buddy&quot\; Poppy </font></font></p>\n\n<p><font face="Impact\,Impact" size="7"><font face="Impact\,Impact" size="7">Veterans Fundraiser </font></font></p>\n\n<p><span style="font-size: 14px\;"><b><font face="Rockwell\,Rockwell"><font face="Rockwell\,Rockwell">Monday\, May 1st\, 2017 </font></font></b></span></p>\n\n<p><span style="font-size: 14px\;"><b><font face="Rockwell\,Rockwell"><font face="Rockwell\,Rockwell">5:30 p.m. &ndash\; 8:00 p.m. </font></font></b></span></p>\n\n<p><b><font face="Rockwell\,Rockwell" size="6"><font face="Rockwell\,Rockwell" size="6"><span style="font-size: 12px\;">VFW Post 612\, 420 E. Washington Avenue\, Fergus Falls\, MN </span></font></font></b><br />\n<span style="font-size: 12px\;"><b>Meatball Dinner - $10 </b></span></p>\n\n<p><b>Mashed Potatoes\, Gravy\, Vegetable\, Roll\, Dessert </b></p>\n<strong>Drink Specials<br />\nCharitable Gaming</strong>\n\n<p><font face="Rockwell\,Rockwell"><font face="Rockwell\,Rockwell">May 1</font></font><font face="Rockwell\,Rockwell"><font face="Rockwell\,Rockwell">st </font></font><font face="Rockwell\,Rockwell"><font face="Rockwell\,Rockwell">is </font></font><b>Loyalty Day </b><font face="Rockwell\,Rockwell"><font face="Rockwell\,Rockwell">&ndash\; a time to reaffirm our patriotism. The Buddy Poppy represents the bloodshed of American service members. </font></font></p>\n\n<p><font face="Rockwell\,Rockwell"><font face="Rockwell\,Rockwell">Donations are welcome but not required to receive a Buddy Poppy. Support your local VFW Post and wear a Poppy for a veteran during the month of May and especially on Memorial Day. We will not forget their sacrifices! </font></font></p>\n\n<p><font face="Rockwell\,Rockwell"><font face="Rockwell\,Rockwell">JOIN THE COMMUNITY CHALLENGE! </font></font><b>#ffpoppypride</b></p>\n\n<p align="LEFT">Monies received are locally maintained and distributed by V.F.W. Post 612 &amp\; Auxiliary in a separate &quot\;Relief Fund&quot\; account and can only be used in assisting needy and disabled Veterans\, their families and the widows and orphans of veterans. Thank you for your support!</p>\n\n<p><br />\n&nbsp\;</p>\n
LOCATION:VFW Post 612 420 E. Washington Avenue Fergus Falls\, MN
UID:e.314.40045
SEQUENCE:3
DTSTAMP:20260424T174616Z
URL:https://business.fergusfalls.com/events/details/v-f-w-buddy-poppy-veterans-fundraiser-40045
END:VEVENT

END:VCALENDAR
