BEGIN:VCALENDAR
VERSION:2.0
PRODID:-//ChamberMaster//Event Calendar 2.0//EN
METHOD:PUBLISH
X-PUBLISHED-TTL:P3D
REFRESH-INTERVAL:P3D
CALSCALE:GREGORIAN
BEGIN:VEVENT
DTSTART:20190214T230000Z
DTEND:20190216T040000Z
X-MICROSOFT-CDO-ALLDAYEVENT:FALSE
SUMMARY:Valentine's Day at the Z
DESCRIPTION:Valentine's Day is just around the corner! We are celebrating by offering a special menu on February 14th & 15th from 5 PM to 10 PM.\n\n\n\nSPECIAL OFFER:\n\n- Order a 3-course meal and receive 10% off your bill!\n\n- Bring your significant other or a friend and order a 3-course meal to receive 15% off your bill!\n\n\n\nMenu is posted in the discussion. Salad bar comes with every entree. The Triple Layer Mousse Cake is featured in the event cover photo.
X-ALT-DESC;FMTTYPE=text/html:<div class="_63ew" data-testid="event-permalink-details"><span>Valentine&#39\;s Day is just around the corner! We are celebrating by offering a special menu on February 14th &amp\; 15th from 5 PM to 10 PM.<br />\n<br />\nSPECIAL OFFER:<br />\n- Order a 3-course meal and receive 10% off your bill!<br />\n- Bring your significant other or a friend and order a 3-course meal to receive 15% off your bill!<br />\n<br />\nMenu is posted in the discussion. Salad bar comes with every entree. The Triple Layer Mousse Cake is featured in the event cover photo.</span></div>\n
LOCATION:Z103 Bar & Grill 902 Frontier Dr. Fergus Falls MN
UID:e.314.52474
SEQUENCE:3
DTSTAMP:20260423T105750Z
URL:https://business.fergusfalls.com/events/details/valentine-s-day-at-the-z-52474
END:VEVENT

END:VCALENDAR
