BEGIN:VCALENDAR
VERSION:2.0
PRODID:-//ChamberMaster//Event Calendar 2.0//EN
METHOD:PUBLISH
X-PUBLISHED-TTL:P3D
REFRESH-INTERVAL:P3D
CALSCALE:GREGORIAN
BEGIN:VEVENT
DTSTART:20180211T000000Z
DTEND:20180211T030000Z
X-MICROSOFT-CDO-ALLDAYEVENT:FALSE
SUMMARY:Valentine's Day teen dance!
DESCRIPTION:The Northern Contours Relay for Life team is proudly hosting a Valentine's Day teen dance!\n\n\n\nAdmission is $4\n\nCome and join us for a fun filled night of dancing with our friends!\n\nPop\, candy\, popcorn and cup cakes will be provided
X-ALT-DESC;FMTTYPE=text/html:<span style="font-size: 18px\;"><strong><span style="color: rgb(75\, 79\, 86)\; text-transform: none\; text-indent: 0px\; letter-spacing: normal\; font-family: Helvetica\, Arial\, sans-serif\; font-style: normal\; font-weight: 400\; word-spacing: 0px\; float: none\; display: inline !important\; white-space: normal\; orphans: 2\; widows: 2\; background-color: rgb(255\, 255\, 255)\; font-variant-ligatures: normal\; font-variant-caps: normal\; -webkit-text-stroke-width: 0px\; text-decoration-style: initial\; text-decoration-color: initial\;">The Northern Contours Relay for Life team is proudly hosting a Valentine&#39\;s Day teen dance!</span></strong></span><br style="color: rgb(75\, 79\, 86)\; text-transform: none\; text-indent: 0px\; letter-spacing: normal\; font-family: Helvetica\, Arial\, sans-serif\; font-size: 14px\; font-style: normal\; font-weight: 400\; word-spacing: 0px\; white-space: normal\; orphans: 2\; widows: 2\; background-color: rgb(255\, 255\, 255)\; font-variant-ligatures: normal\; font-variant-caps: normal\; -webkit-text-stroke-width: 0px\; text-decoration-style: initial\; text-decoration-color: initial\;" />\n<br style="color: rgb(75\, 79\, 86)\; text-transform: none\; text-indent: 0px\; letter-spacing: normal\; font-family: Helvetica\, Arial\, sans-serif\; font-size: 14px\; font-style: normal\; font-weight: 400\; word-spacing: 0px\; white-space: normal\; orphans: 2\; widows: 2\; background-color: rgb(255\, 255\, 255)\; font-variant-ligatures: normal\; font-variant-caps: normal\; -webkit-text-stroke-width: 0px\; text-decoration-style: initial\; text-decoration-color: initial\;" />\n<span style="color: rgb(75\, 79\, 86)\; text-transform: none\; text-indent: 0px\; letter-spacing: normal\; font-family: Helvetica\, Arial\, sans-serif\; font-size: 14px\; font-style: normal\; font-weight: 400\; word-spacing: 0px\; float: none\; display: inline !important\; white-space: normal\; orphans: 2\; widows: 2\; background-color: rgb(255\, 255\, 255)\; font-variant-ligatures: normal\; font-variant-caps: normal\; -webkit-text-stroke-width: 0px\; text-decoration-style: initial\; text-decoration-color: initial\;">Admission is $4</span><br style="color: rgb(75\, 79\, 86)\; text-transform: none\; text-indent: 0px\; letter-spacing: normal\; font-family: Helvetica\, Arial\, sans-serif\; font-size: 14px\; font-style: normal\; font-weight: 400\; word-spacing: 0px\; white-space: normal\; orphans: 2\; widows: 2\; background-color: rgb(255\, 255\, 255)\; font-variant-ligatures: normal\; font-variant-caps: normal\; -webkit-text-stroke-width: 0px\; text-decoration-style: initial\; text-decoration-color: initial\;" />\n<span style="color: rgb(75\, 79\, 86)\; text-transform: none\; text-indent: 0px\; letter-spacing: normal\; font-family: Helvetica\, Arial\, sans-serif\; font-size: 14px\; font-style: normal\; font-weight: 400\; word-spacing: 0px\; float: none\; display: inline !important\; white-space: normal\; orphans: 2\; widows: 2\; background-color: rgb(255\, 255\, 255)\; font-variant-ligatures: normal\; font-variant-caps: normal\; -webkit-text-stroke-width: 0px\; text-decoration-style: initial\; text-decoration-color: initial\;">Come and join us for a fun filled night of dancing with our friends!</span><br style="color: rgb(75\, 79\, 86)\; text-transform: none\; text-indent: 0px\; letter-spacing: normal\; font-family: Helvetica\, Arial\, sans-serif\; font-size: 14px\; font-style: normal\; font-weight: 400\; word-spacing: 0px\; white-space: normal\; orphans: 2\; widows: 2\; background-color: rgb(255\, 255\, 255)\; font-variant-ligatures: normal\; font-variant-caps: normal\; -webkit-text-stroke-width: 0px\; text-decoration-style: initial\; text-decoration-color: initial\;" />\n<span style="color: rgb(75\, 79\, 86)\; text-transform: none\; text-indent: 0px\; letter-spacing: normal\; font-family: Helvetica\, Arial\, sans-serif\; font-size: 14px\; font-style: normal\; font-weight: 400\; word-spacing: 0px\; float: none\; display: inline !important\; white-space: normal\; orphans: 2\; widows: 2\; background-color: rgb(255\, 255\, 255)\; font-variant-ligatures: normal\; font-variant-caps: normal\; -webkit-text-stroke-width: 0px\; text-decoration-style: initial\; text-decoration-color: initial\;">Pop\, candy\, popcorn and cup cakes will be provided</span>
LOCATION:Fergus Falls VFW Post 612 420 E Washington Ave
UID:e.314.43732
SEQUENCE:3
DTSTAMP:20260424T042938Z
URL:https://business.fergusfalls.com/events/details/valentine-s-day-teen-dance-43732
END:VEVENT

END:VCALENDAR
