BEGIN:VCALENDAR
VERSION:2.0
PRODID:-//ChamberMaster//Event Calendar 2.0//EN
METHOD:PUBLISH
X-PUBLISHED-TTL:P3D
REFRESH-INTERVAL:P3D
CALSCALE:GREGORIAN
BEGIN:VEVENT
DTSTART:20170214T233000Z
DTEND:20170215T003000Z
X-MICROSOFT-CDO-ALLDAYEVENT:FALSE
SUMMARY:Valentine's Day Vinyasa at Namaste Hot
DESCRIPTION:Happy Valentine's Day from Namaste Hot to you!!\n\nWe LOVE our members and to show our appreciation this Valentine's Day please bring a friend\, a spouse\, or anyone you love to our Valentine's Day Vinyasa class (((FREE!!)))\n\n-Sign up using your MINDBODY app or online at namastehot.com\n\n-This Valentine's Day Vinyasa class will be beginner friendly
X-ALT-DESC;FMTTYPE=text/html:<span class="_4n-j _3cht fsl">Happy Valentine&#39\;s Day from Namaste Hot to you!!<br />\nWe LOVE our members and to show our appreciation this Valentine&#39\;s Day please bring a friend\, a spouse\, or anyone you love to our Valentine&#39\;s Day Vinyasa class (((FREE!!)))<br />\n-Sign up using your MINDBODY app or online at <a href="http://l.facebook.com/l.php?u=http%3A%2F%2Fnamastehot.com%2F&amp\;h=ATN6YUmP8zgwj97OL0dpyVk04nugvHct3KPvrC7vHMgs44IF6ID97bdUo7p387G7-LtU7toeSwcR9cQHPSLL7_aF9p8929ZQKXzsgIP0Fql-YRtjUUrfN7M_7vDnjwJdmho&amp\;enc=AZOHzy57tzHjjC6o-1poiWOyEFeY8EK1uurhywhQ9s7eJGOQYN0ByqomFHccOML5dUk&amp\;s=1" rel="nofollow nofollow" target="_blank"><font color="#0066cc">namastehot.com</font></a><br />\n-This Valentine&#39\;s Day Vinyasa class will be beginner friendly </span>
LOCATION:Namaste Hot 102 W Lincoln Ave\, Fergus Falls
UID:e.314.38280
SEQUENCE:3
DTSTAMP:20260425T003557Z
URL:https://business.fergusfalls.com/events/details/valentine-s-day-vinyasa-at-namaste-hot-38280
END:VEVENT

END:VCALENDAR
