BEGIN:VCALENDAR
VERSION:2.0
PRODID:-//ChamberMaster//Event Calendar 2.0//EN
METHOD:PUBLISH
X-PUBLISHED-TTL:P3D
REFRESH-INTERVAL:P3D
CALSCALE:GREGORIAN
BEGIN:VEVENT
DTSTART:20170324T210000Z
DTEND:20170325T000000Z
X-MICROSOFT-CDO-ALLDAYEVENT:FALSE
SUMMARY:Vazquez Family Benefit
DESCRIPTION:The MState Fergus Falls Student Nurses Association along with Lancer Catering is hosting a spaghetti dinner\, silent auction and bake sale. The funds from will go to pay for medical and funeral expenses after a house explosion back in December took the life of a mother\, step-father\, and seriously injured another family member. They lost their house\, belongings and pets also.
X-ALT-DESC;FMTTYPE=text/html:The MState Fergus Falls Student Nurses Association along with Lancer Catering is hosting a spaghetti dinner\, silent auction and bake sale. The funds from will go to pay for medical and funeral expenses after a house explosion back in December took the life of a mother\, step-father\, and seriously injured another family member. They lost their house\, belongings and pets also.
LOCATION:Legacy Hall at MState Fergus Falls
UID:e.314.38829
SEQUENCE:3
DTSTAMP:20260424T225111Z
URL:https://business.fergusfalls.com/events/details/vazquez-family-benefit-38829
END:VEVENT

END:VCALENDAR
