BEGIN:VCALENDAR
VERSION:2.0
PRODID:-//ChamberMaster//Event Calendar 2.0//EN
METHOD:PUBLISH
X-PUBLISHED-TTL:P3D
REFRESH-INTERVAL:P3D
CALSCALE:GREGORIAN
BEGIN:VEVENT
DTSTART:20171006T230000Z
DTEND:20171007T000000Z
X-MICROSOFT-CDO-ALLDAYEVENT:FALSE
SUMMARY:Veterans Honored at FF Otter Homecoming
DESCRIPTION:Each year the Fergus Falls High School Music Department puts on a show during halftime of the football game. This year they would like to honor the men and women that serve or have served our county. Please come out and enjoy the game and show on October 6th at 6pm. All military members will be let in free if they present their military ID at the gate.
X-ALT-DESC;FMTTYPE=text/html:<span class="_4n-j _3cht fsl" data-testid="event-permalink-details">Each year the Fergus Falls High School Music Department puts on a show during halftime of the football game. This year they would like to honor the men and women that serve or have served our county. Please come out and enjoy the game and show on October 6th at 6pm. All military members will be let in free if they present their military ID at the gate.</span>
LOCATION:Fergus Falls OTTER Football 602 Randolph Ave Fergus Falls
UID:e.314.42816
SEQUENCE:3
DTSTAMP:20260424T105652Z
URL:https://business.fergusfalls.com/events/details/veterans-honored-at-ff-otter-homecoming-42816
END:VEVENT

END:VCALENDAR
