BEGIN:VCALENDAR
VERSION:2.0
PRODID:-//ChamberMaster//Event Calendar 2.0//EN
METHOD:PUBLISH
X-PUBLISHED-TTL:P3D
REFRESH-INTERVAL:P3D
CALSCALE:GREGORIAN
BEGIN:VEVENT
DTSTART:20190301T220000Z
DTEND:20190302T040000Z
X-MICROSOFT-CDO-ALLDAYEVENT:FALSE
SUMMARY:VFW: Fish Fry\, Meat Raffle\, Bingo\, & Music
DESCRIPTION:Come on out Friday night for the Walleye Fry for $10\, Meat Raffle starting at 4pm and Bingo starting at 5:30pm! Last game of the night is Blackout and it goes for $750! Finish the night off with Georges Concentina from 7:30-10:30!
X-ALT-DESC;FMTTYPE=text/html:Come on out Friday night for the Walleye Fry for $10\, Meat Raffle starting at 4pm and Bingo starting at 5:30pm! Last game of the night is Blackout and it goes for $750! Finish the night off with Georges Concentina from 7:30-10:30!
LOCATION:
UID:e.314.52583
SEQUENCE:3
DTSTAMP:20260423T081039Z
URL:https://business.fergusfalls.com/events/details/vfw-fish-fry-meat-raffle-bingo-music-52583
END:VEVENT

END:VCALENDAR
