BEGIN:VCALENDAR
VERSION:2.0
PRODID:-//ChamberMaster//Event Calendar 2.0//EN
METHOD:PUBLISH
X-PUBLISHED-TTL:P3D
REFRESH-INTERVAL:P3D
CALSCALE:GREGORIAN
BEGIN:VEVENT
DTSTART:20191025T220000Z
DTEND:20191026T045500Z
X-MICROSOFT-CDO-ALLDAYEVENT:FALSE
SUMMARY:VFW Halloween Costume Contest
DESCRIPTION:This year's Halloween Costume Contest will be Friday\, Oct 25th! The categories are the best couple\, funniest\, scariest\, and best of the night! $10 Cover includes Octoberfest style food starting at 5pm and live music featuring JACKED UP!
X-ALT-DESC;FMTTYPE=text/html:<div class="_63ew" data-testid="event-permalink-details"><span>This year&#39\;s Halloween Costume Contest will be Friday\, Oct 25th! The categories are the best couple\, funniest\, scariest\, and best of the night! $10 Cover includes Octoberfest style food starting at 5pm and live music featuring JACKED UP! </span></div>\n
LOCATION:Fergus Falls VFW Post 612 and Auxiliary 420 E Washington Ave\, Fergus Falls\, Minnesota 56537
UID:e.314.54804
SEQUENCE:3
DTSTAMP:20260422T222544Z
URL:https://business.fergusfalls.com/events/details/vfw-halloween-costume-contest-54804
END:VEVENT

END:VCALENDAR
