BEGIN:VCALENDAR
VERSION:2.0
PRODID:-//ChamberMaster//Event Calendar 2.0//EN
METHOD:PUBLISH
X-PUBLISHED-TTL:P3D
REFRESH-INTERVAL:P3D
CALSCALE:GREGORIAN
BEGIN:VEVENT
DTSTART:20171028T020000Z
DTEND:20171028T045500Z
X-MICROSOFT-CDO-ALLDAYEVENT:FALSE
SUMMARY:VFW Halloween Party
DESCRIPTION:VFW Halloween Party : Chasing Tomorrow
X-ALT-DESC;FMTTYPE=text/html:VFW Halloween Party : Chasing Tomorrow
LOCATION:
UID:e.314.42815
SEQUENCE:3
DTSTAMP:20260424T092349Z
URL:https://business.fergusfalls.com/events/details/vfw-halloween-party-42815
END:VEVENT

END:VCALENDAR
