BEGIN:VCALENDAR
VERSION:2.0
PRODID:-//ChamberMaster//Event Calendar 2.0//EN
METHOD:PUBLISH
X-PUBLISHED-TTL:P3D
REFRESH-INTERVAL:P3D
CALSCALE:GREGORIAN
BEGIN:VEVENT
DTSTART:20170101T160000Z
DTEND:20170102T010000Z
X-MICROSOFT-CDO-ALLDAYEVENT:FALSE
SUMMARY:VFW New Years Day Gathering
DESCRIPTION:VFW Post 612\nThe VFW Post 612\, located at 420 East Washington Ave.\, will have a concert from the band Blue English.\n\nThe four-piece band is from Fargo and has three lead singers. They perform music from rock and pop music genres from various decades of music. \n\nThe band will start at 8:30 p.m. Saturday and play until 12:30 a.m.\n\nThere is no cover charge\, but attendees must be 21 years old.\n\nThe VFW will open again at 10:30 a.m. on Sunday serving sloppy joes\, chips and pickles at 11 a.m.\n\nBlue English will play again 3-7 p.m. Sunday.
X-ALT-DESC;FMTTYPE=text/html:<strong>&nbsp\;VFW Post 612</strong>\n<p class="p1"><span class="s2">The VFW Post 612\, located at 420 East Washington Ave.\, will have a concert from the band Blue English.</span></p>\n\n<p class="p1"><span class="s2">The four-piece band is from Fargo and has three lead singers. They perform music from rock and pop music genres from various decades of music. </span></p>\n\n<p class="p1"><span class="s2">The band will start at 8:30 p.m. Saturday and play until 12:30 a.m.</span></p>\n\n<p class="p1"><span class="s2">There is no cover charge\, but attendees must be 21 years old.</span></p>\n\n<p class="p1"><span class="s2">The VFW will open again at 10:30 a.m. on Sunday serving sloppy joes\, chips and pickles at 11 a.m.</span></p>\n\n<p class="p1"><span class="s2">Blue English will play again 3-7 p.m. Sunday. </span></p>\n
LOCATION:
UID:e.314.37404
SEQUENCE:3
DTSTAMP:20260425T002944Z
URL:https://business.fergusfalls.com/events/details/vfw-new-years-day-gathering-37404
END:VEVENT

END:VCALENDAR
