BEGIN:VCALENDAR
VERSION:2.0
PRODID:-//ChamberMaster//Event Calendar 2.0//EN
METHOD:PUBLISH
X-PUBLISHED-TTL:P3D
REFRESH-INTERVAL:P3D
CALSCALE:GREGORIAN
BEGIN:VEVENT
DTSTART:20181231T170000Z
DTEND:20190102T000000Z
X-MICROSOFT-CDO-ALLDAYEVENT:FALSE
SUMMARY:VFW - New Years Eve & Day Party
DESCRIPTION:NEW YEARS EVE (11:00AM to MIDNIGHT)\n\n$6.00 TACO BAR from 5:00PM to 7:00PM\n\nMEAT RAFFLE at 4:00PM\n\nBINGO at 6:00PM - Last game $750.00 BLACKOUT!\n\nDrink specials! BEAN BAGS\, PING PONG\, POOL!\n\nGather your friends to celebrate the beginning of 2019!!\n\n\n\nNEW YEARS DAY (11:00AM to 6:00PM)\n\nPulled Pork Sandwiches\, Beans\, Chips (FREE WILL OFFERING)\n\nTOM AND JERRY'S - $3.00\n\nBLOODY MARY BAR - $6.00\n\nMEAT RAFFLE at 11:30AM\n\nBINGO at Noon - Last game $750.00 BLACKOUT!
X-ALT-DESC;FMTTYPE=text/html:<span>NEW YEARS EVE (11:00AM to MIDNIGHT)<br />\n$6.00 TACO BAR from 5:00PM to 7:00PM<br />\nMEAT RAFFLE at 4:00PM<br />\nBINGO at 6:00PM - Last game $750.00 BLACKOUT!<br />\nDrink specials! BEAN BAGS\, PING PONG\, POOL!<br />\nGather your friends to celebrate the beginning of 2019!!<br />\n<br />\nNEW YEARS DAY (11:00AM to 6:00PM)<br />\nPulled Pork Sandwiches\, Beans\, Chips (FREE WILL OFFERING)<br />\nTOM AND JERRY&#39\;S - $3.00<br />\nBLOODY MARY BAR - $6.00<br />\nMEAT RAFFLE at 11:30AM<br />\nBINGO at Noon - Last game $750.00 BLACKOUT!</span>
LOCATION:Fergus Falls VFW 420 E Washington Ave
UID:e.314.52266
SEQUENCE:3
DTSTAMP:20260423T110008Z
URL:https://business.fergusfalls.com/events/details/vfw-new-years-eve-day-party-52266
END:VEVENT

END:VCALENDAR
