BEGIN:VCALENDAR
VERSION:2.0
PRODID:-//ChamberMaster//Event Calendar 2.0//EN
METHOD:PUBLISH
X-PUBLISHED-TTL:P3D
REFRESH-INTERVAL:P3D
CALSCALE:GREGORIAN
BEGIN:VEVENT
DTSTART:20160123T200000Z
DTEND:20160123T210000Z
X-MICROSOFT-CDO-ALLDAYEVENT:FALSE
SUMMARY:VFW Post #612 Bar Bingo & A Night of Live Music
DESCRIPTION:VFW Post # 612\n\nAn Afternoon of Bar Bingo & An Evening of  Live Music starting at 8:30pm
X-ALT-DESC;FMTTYPE=text/html:<span style="font-size: 20px\;"><strong>VFW Post # 612<br />\nAn Afternoon of Bar Bingo&nbsp\;&amp\; An Evening of &nbsp\;Live Music starting at 8:30pm</strong></span><br />\n&nbsp\;
LOCATION:420 East Washington Ave
UID:e.314.19522
SEQUENCE:3
DTSTAMP:20260425T215759Z
URL:https://business.fergusfalls.com/events/details/vfw-post-612-bar-bingo-a-night-of-live-music-01-23-2016-19522
END:VEVENT

END:VCALENDAR
