BEGIN:VCALENDAR
VERSION:2.0
PRODID:-//ChamberMaster//Event Calendar 2.0//EN
METHOD:PUBLISH
X-PUBLISHED-TTL:P3D
REFRESH-INTERVAL:P3D
CALSCALE:GREGORIAN
BEGIN:VEVENT
DTSTART:20180728T180000Z
DTEND:20180728T200000Z
X-MICROSOFT-CDO-ALLDAYEVENT:FALSE
SUMMARY:VFW Post #612 Bar Bingo & Meat Raffle
DESCRIPTION:VFW Post # 612\n\nBar Bingo & Meat Raffle
X-ALT-DESC;FMTTYPE=text/html:<span style="font-size: 20px\;"><strong>VFW Post # 612<br />\nBar Bingo &amp\; Meat Raffle</strong></span><br />\n&nbsp\;
LOCATION:420 East Washington Ave
UID:e.314.19653
SEQUENCE:3
DTSTAMP:20260423T195941Z
URL:https://business.fergusfalls.com/events/details/vfw-post-612-bar-bingo-meat-raffle-07-28-2018-19653
END:VEVENT

END:VCALENDAR
