BEGIN:VCALENDAR
VERSION:2.0
PRODID:-//ChamberMaster//Event Calendar 2.0//EN
METHOD:PUBLISH
X-PUBLISHED-TTL:P3D
REFRESH-INTERVAL:P3D
CALSCALE:GREGORIAN
BEGIN:VEVENT
DTSTART:20180803T223000Z
DTEND:20180803T233000Z
X-MICROSOFT-CDO-ALLDAYEVENT:FALSE
SUMMARY:VFW Post #612 Bar Bingo & Meat Raffle
DESCRIPTION:VFW Post #612\n\nMeat Raffle and Bar Bingo
X-ALT-DESC;FMTTYPE=text/html:<span style="font-size: 18px\;"><strong>VFW Post #612</strong></span><br />\n<strong>Meat Raffle and Bar Bingo</strong><br />\n&nbsp\;
LOCATION:420 East Washington Ave
UID:e.314.19255
SEQUENCE:3
DTSTAMP:20260423T181544Z
URL:https://business.fergusfalls.com/events/details/vfw-post-612-bar-bingo-meat-raffle-08-03-2018-19255
END:VEVENT

END:VCALENDAR
