BEGIN:VCALENDAR
VERSION:2.0
PRODID:-//ChamberMaster//Event Calendar 2.0//EN
METHOD:PUBLISH
X-PUBLISHED-TTL:P3D
REFRESH-INTERVAL:P3D
CALSCALE:GREGORIAN
BEGIN:VEVENT
DTSTART:20160213T023000Z
DTEND:20160213T053000Z
X-MICROSOFT-CDO-ALLDAYEVENT:FALSE
SUMMARY:VFW Post #612 Dance- Gunshy
DESCRIPTION:VFW Post #612\n\nDance- GUNSHY 8:30-12:30
X-ALT-DESC;FMTTYPE=text/html:<span style="font-size: 18px\;"><strong>VFW Post #612</strong></span><br />\n<strong>Dance- GUNSHY 8:30-12:30</strong><br />\n&nbsp\;
LOCATION:420 East Washington Ave
UID:e.314.19126
SEQUENCE:3
DTSTAMP:20260425T200852Z
URL:https://business.fergusfalls.com/events/details/vfw-post-612-dance-gunshy-02-12-2016-19126
END:VEVENT

END:VCALENDAR
