BEGIN:VCALENDAR
VERSION:2.0
PRODID:-//ChamberMaster//Event Calendar 2.0//EN
METHOD:PUBLISH
X-PUBLISHED-TTL:P3D
REFRESH-INTERVAL:P3D
CALSCALE:GREGORIAN
BEGIN:VEVENT
DTSTART:20160206T013000Z
DTEND:20160206T050000Z
X-MICROSOFT-CDO-ALLDAYEVENT:FALSE
SUMMARY:VFW Post #612 Dance- Night Owls
DESCRIPTION:VFW Post #612\n\nDance Night Owls 7:30-11
X-ALT-DESC;FMTTYPE=text/html:<span style="font-size: 18px\;"><strong>VFW Post #612</strong></span><br />\nDance Night Owls 7:30-11<br />\n&nbsp\;
LOCATION:420 East Washington Ave
UID:e.314.19125
SEQUENCE:3
DTSTAMP:20260425T200824Z
URL:https://business.fergusfalls.com/events/details/vfw-post-612-dance-night-owls-02-05-2016-19125
END:VEVENT

END:VCALENDAR
