BEGIN:VCALENDAR
VERSION:2.0
PRODID:-//ChamberMaster//Event Calendar 2.0//EN
METHOD:PUBLISH
X-PUBLISHED-TTL:P3D
REFRESH-INTERVAL:P3D
CALSCALE:GREGORIAN
BEGIN:VEVENT
DTSTART:20160220T023000Z
DTEND:20160220T050000Z
X-MICROSOFT-CDO-ALLDAYEVENT:FALSE
SUMMARY:VFW Post #612 Live Music- 57 Chevy
DESCRIPTION:VFW- Dance Live Music - 57 Chevy 8:30-12:30
X-ALT-DESC;FMTTYPE=text/html:<strong>VFW- Dance Live Music - 57 Chevy 8:30-12:30</strong><br />\n&nbsp\;
LOCATION:420 East Washington Ave
UID:e.314.19127
SEQUENCE:3
DTSTAMP:20260425T215240Z
URL:https://business.fergusfalls.com/events/details/vfw-post-612-live-music-57-chevy-02-19-2016-19127
END:VEVENT

END:VCALENDAR
