BEGIN:VCALENDAR
VERSION:2.0
PRODID:-//ChamberMaster//Event Calendar 2.0//EN
METHOD:PUBLISH
X-PUBLISHED-TTL:P3D
REFRESH-INTERVAL:P3D
CALSCALE:GREGORIAN
BEGIN:VEVENT
DTSTART:20160130T023000Z
DTEND:20160129T183000Z
X-MICROSOFT-CDO-ALLDAYEVENT:FALSE
SUMMARY:VFW Post #612 Live Music- Confusion
DESCRIPTION:VFW Post #612\n\nMeatloaf Dinner - Baskets Available previously.\n\n\n\nLive Band:\n\n\n\nConfusion 8:30-12:30
X-ALT-DESC;FMTTYPE=text/html:<span style="font-size: 18px\;"><strong>VFW Post #612</strong></span><br />\nMeatloaf Dinner - Baskets Available previously.<br />\n<br />\nLive Band:<br />\n<br />\nConfusion 8:30-12:30<br />\n&nbsp\;
LOCATION:420 East Washington Ave
UID:e.314.19124
SEQUENCE:3
DTSTAMP:20260425T233050Z
URL:https://business.fergusfalls.com/events/details/vfw-post-612-live-music-confusion-01-29-2016-19124
END:VEVENT

END:VCALENDAR
