BEGIN:VCALENDAR
VERSION:2.0
PRODID:-//ChamberMaster//Event Calendar 2.0//EN
METHOD:PUBLISH
X-PUBLISHED-TTL:P3D
REFRESH-INTERVAL:P3D
CALSCALE:GREGORIAN
BEGIN:VEVENT
DTSTART:20160114T190000Z
DTEND:20160114T210000Z
X-MICROSOFT-CDO-ALLDAYEVENT:FALSE
SUMMARY:Victor Lundeen Company - Meet The Author: Lisa Schultz- Fred
DESCRIPTION:Meet local author Lisa-Schultz-Fred on Thursday\, January 14th from 1 - 3. She will be talking about her new book "Mourney Journey" In Mourning Journey\, she reveals how her life was forever changed. The unthinkable happened when her husband of twenty-one years was tragically killed\, thrusting her and their three children into a new reality. Lisa retraces significant times in her life that ultimately shaped her survival when the world around her crumbled. The loss she experienced was permanent\, but she did not let it permanently affect her in a negative\, unproductive way. Her inspiring story will encourage readers that they too can heal after a traumatic loss.
X-ALT-DESC;FMTTYPE=text/html:<span class="fsl">Meet local author Lisa-Schultz-Fred on Thursday\, January 14th from 1 - 3. She will be talking about her new book &quot\;Mourney Journey&quot\; In Mourning Journey\, she reveals how her life was forever changed. The unthinkable happened when her husband of twenty-one years was tragically killed\, thrusting her and their three children into a new reality. Lisa retraces significant times in her life that ultimately shaped her survival when the world around her crumbled. The loss she experienced was permanent\, but she did not let it permanently affect her in a negative\, unproductive way. Her inspiring story will encourage readers that they too can heal after a traumatic loss.</span>
LOCATION:Show Map Hide Map Victor Lundeen Company 126 W Lincoln Ave\, Fergus Falls\, Minnesota 56537
UID:e.314.28220
SEQUENCE:3
DTSTAMP:20260425T215600Z
URL:https://business.fergusfalls.com/events/details/victor-lundeen-company-meet-the-author-lisa-schultz-fred-01-14-2016-28220
END:VEVENT

END:VCALENDAR
