BEGIN:VCALENDAR
VERSION:2.0
PRODID:-//ChamberMaster//Event Calendar 2.0//EN
METHOD:PUBLISH
X-PUBLISHED-TTL:P3D
REFRESH-INTERVAL:P3D
CALSCALE:GREGORIAN
BEGIN:VEVENT
DTSTART;VALUE=DATE:20190119
DTEND;VALUE=DATE:20190120
TRANSP:TRANSPARENT
X-MICROSOFT-CDO-ALLDAYEVENT:TRUE
SUMMARY:Victor Lundeens Closed for Inventory
DESCRIPTION:The Victor Lundeen Company will be CLOSED for inventory\, Saturday\, January 19th.  We will re-open on Monday\, January 21st at 8:00 a.m.  We thank you for your continued business and friendship!
X-ALT-DESC;FMTTYPE=text/html:The Victor Lundeen Company will be CLOSED for inventory\, Saturday\, January 19th. &nbsp\;We will re-open on Monday\, January 21st at 8:00 a.m. &nbsp\;We thank you for your continued business and friendship! &nbsp\;
LOCATION:126 West Lincoln Avenue\, Fergus Falls
UID:e.314.52376
SEQUENCE:3
DTSTAMP:20260423T120526Z
URL:https://business.fergusfalls.com/events/details/victor-lundeens-closed-for-inventory-52376
END:VEVENT

END:VCALENDAR
