BEGIN:VCALENDAR
VERSION:2.0
PRODID:-//ChamberMaster//Event Calendar 2.0//EN
METHOD:PUBLISH
X-PUBLISHED-TTL:P3D
REFRESH-INTERVAL:P3D
CALSCALE:GREGORIAN
BEGIN:VEVENT
DTSTART:20160104T200000Z
DTEND:20160104T210000Z
X-MICROSOFT-CDO-ALLDAYEVENT:FALSE
SUMMARY:Vietnam Military Roundtable with Dr. Jack Pearson
DESCRIPTION:The Otter Tail County Historical Society's Military Roundtable will gather on Monday\, January 4th at 2pm at the Minnesota Veterans Home in Fergus Falls. Guest presenter Dr. Jack Pearson will describe his work as a medical doctor serving in Vietnam. In addition\, Pearson has numerous slides from his time in Vietnam to share with the audience. Following his military service\, he and his family moved to Fergus Falls where he worked at Lake Region Healthcare.\n\n \n\nThere is no charge for the program and the public is welcome to attend. Refreshments are served after the program. For more information\, email mhermes@otchs.org.
X-ALT-DESC;FMTTYPE=text/html:<span style="font-size: medium\;"><span style="font-family: times new roman\;">The Otter Tail County Historical Society&rsquo\;s Military Roundtable will gather on Monday\, January 4th at 2pm at the Minnesota Veterans Home in Fergus Falls. Guest presenter Dr. Jack Pearson will describe his work as a medical doctor serving in Vietnam. In addition\, Pearson has numerous slides from his time in Vietnam to share with the audience. Following his military service\, he and his family moved to Fergus Falls where he worked at Lake Region Healthcare.</span></span><br />\n&nbsp\;<br />\n<span style="font-size: medium\;"><span style="font-family: times new roman\;">There is no charge for the program and the public is welcome to attend. Refreshments are served after the program. For more information\, email&nbsp\;</span></span><a href="mailto:mhermes@otchs.org"><span style="font-size: medium\;"><span style="font-family: times new roman\;"><span style="color: rgb(0\, 0\, 255)\;">mhermes@otchs.org</span></span></span></a><span style="font-size: medium\;"><span style="font-family: times new roman\;">.&nbsp\;</span></span><br />\n&nbsp\;<br />\n&nbsp\;
LOCATION:Minnesota Veteran's Home\, Fergus Falls\, MN.
UID:e.314.27971
SEQUENCE:3
DTSTAMP:20260425T215155Z
URL:https://business.fergusfalls.com/events/details/vietnam-military-roundtable-with-dr-jack-pearson-01-04-2016-27971
END:VEVENT

END:VCALENDAR
