BEGIN:VCALENDAR
VERSION:2.0
PRODID:-//ChamberMaster//Event Calendar 2.0//EN
METHOD:PUBLISH
X-PUBLISHED-TTL:P3D
REFRESH-INTERVAL:P3D
CALSCALE:GREGORIAN
BEGIN:VEVENT
DTSTART:20200430T123000Z
DTEND:20200430T133000Z
X-MICROSOFT-CDO-ALLDAYEVENT:FALSE
SUMMARY:Virtual Business for Breakfast - Business Development in Times of Crisis
DESCRIPTION:Ryan Tungseth will be discussing how to effectively communicate with customers and using economic downturns to reinvent and find new channels of business. \n\n \n\nJoin us for a virtual Business for Breakfast live Q&A on Thursday\, April 30th at 7:30 am. Submit questions and ideas at greaterfergusfalls.com/b4b and continue supporting our local restaurants by ordering breakfast\, delivery if possible\, during this live event. \n\n\n\nBreakfast options available at that time include The Viking Cafe\, Cally's Coffee\, Perks\, The Fabled Farmer\, Perkins\, and chains such as Taco Johns\, Taco Bell\, McDonald's\, Hardees\, & Caribou.
X-ALT-DESC;FMTTYPE=text/html:<h3><span style="color:rgb(60\, 64\, 67)\; font-family:roboto\,arial\,sans-serif\; font-size:14px">Ryan Tungseth will be discussing how to effectively communicate with customers and using economic downturns to reinvent and find new channels of business. </span></h3>\n\n<h3>&nbsp\;</h3>\n\n<h3>Join us for a virtual Business for Breakfast live Q&amp\;A on&nbsp\;<strong>Thursday\, April 30th at 7:30</strong>&nbsp\;am.&nbsp\;Submit questions and ideas at&nbsp\;<a href="https://www.greaterfergusfalls.com/qa" style="color: rgb(26\, 115\, 232)\; cursor: auto\;">greaterfergusfalls.com/</a>b4b&nbsp\;and continue supporting our local restaurants by ordering breakfast\, delivery if possible\, during this live event.&nbsp\;<br />\n<br />\nBreakfast options available at that time include The Viking Cafe\, Cally&#39\;s Coffee\, Perks\, The Fabled Farmer\, Perkins\, and chains such as Taco Johns\, Taco Bell\, McDonald&#39\;s\, Hardees\, &amp\; Caribou.&nbsp\;<br />\n&nbsp\;</h3>\n
LOCATION:Join Zoom Meeting https://zoom.us/j/94213884938?pwd=bElPbUdpYUZieHpOK1Frc3lnTDNVZz09 Meeting ID: 942 1388 4938 Password: GFF One tap mobile +13126266799\,\,94213884938#\,\,#\,148721# US (Chicago)
UID:e.314.57386
SEQUENCE:3
DTSTAMP:20260422T112754Z
URL:https://business.fergusfalls.com/events/details/virtual-business-for-breakfast-business-development-in-times-of-crisis-57386
END:VEVENT

END:VCALENDAR
