BEGIN:VCALENDAR
VERSION:2.0
PRODID:-//ChamberMaster//Event Calendar 2.0//EN
METHOD:PUBLISH
X-PUBLISHED-TTL:P3D
REFRESH-INTERVAL:P3D
CALSCALE:GREGORIAN
BEGIN:VEVENT
DTSTART:20200528T123000Z
DTEND:20200528T133000Z
X-MICROSOFT-CDO-ALLDAYEVENT:FALSE
SUMMARY:Virtual Business for Breakfast - Why Can't We Get A Chick-Fil-A?
DESCRIPTION:Join us for a virtual Business for Breakfast on Thursday\, May 28th at 7:30 am via Facebook Live. The topic is 'Why Can't We Get A Chick-Fil-A? This presentation will cover common site selection criteria and answer questions about our community demographics and how it relates to business attraction. \n\n\n\n \n\n\n\nSubmit questions and ideas at greaterfergusfalls.com/b4b and continue supporting our local restaurants by ordering breakfast\, delivery if possible\, during this live event. \n\n\n\n----------\n\n\nThis event will be live streamed to our Facebook page @GreaterFF.
X-ALT-DESC;FMTTYPE=text/html:<div>\n<div><span style="font-family:inherit">Join us for a virtual Business for Breakfast on Thursday\, May 28th at 7:30 am via Facebook Live. The topic is &#39\;Why Can&#39\;t We Get A Chick-Fil-A? This presentation will cover common site selection criteria and answer questions about our community demographics and how it relates to business attraction. </span></div>\n</div>\n\n<div>\n<div>&nbsp\;</div>\n</div>\n\n<div>\n<div><span style="font-family:inherit">Submit questions and ideas at greaterfergusfalls.com/b4b and continue supporting our local restaurants by ordering breakfast\, delivery if possible\, during this live event. </span></div>\n</div>\n\n<div>\n<div><span style="font-family:inherit">----------</span></div>\n</div>\n\n<div>This event will be live streamed to our Facebook page @GreaterFF.</div>\n
LOCATION:Facebook Live @GreaterFF
UID:e.314.57415
SEQUENCE:3
DTSTAMP:20260422T095509Z
URL:https://business.fergusfalls.com/events/details/virtual-business-for-breakfast-why-can-t-we-get-a-chick-fil-a-57415
END:VEVENT

END:VCALENDAR
