BEGIN:VCALENDAR
VERSION:2.0
PRODID:-//ChamberMaster//Event Calendar 2.0//EN
METHOD:PUBLISH
X-PUBLISHED-TTL:P3D
REFRESH-INTERVAL:P3D
CALSCALE:GREGORIAN
BEGIN:VEVENT
DTSTART:20200513T150000Z
DTEND:20200513T154500Z
X-MICROSOFT-CDO-ALLDAYEVENT:FALSE
SUMMARY:Virtual Chamber Ambassador Visits - May 2020
DESCRIPTION:Virtual Chamber Ambassador Visits via ZOOM\n\nLet's get together\, while we're apart\, and learn more about the businesses that make Fergus Falls a great place to do business.\n\nOur invited special guests include:\n\n\n\nICON Business Advantage - New Business\, New Member\n\nSign Guys - New Business\, New Member
X-ALT-DESC;FMTTYPE=text/html:<strong>Virtual Chamber Ambassador Visits via ZOOM<br />\nLet&#39\;s get together\, while we&#39\;re apart\, and learn more about the businesses that make Fergus Falls a great place to do business.<br />\nOur invited special guests include:</strong><br />\n<br />\n<strong>ICON Business Advantage - New Business\, New Member<br />\nSign Guys - New Business\, New Member</strong><br />\n&nbsp\; &nbsp\; &nbsp\; &nbsp\; &nbsp\;
LOCATION:ZOOM Meeting Login information will be sent once you register.
UID:e.314.12578
SEQUENCE:3
DTSTAMP:20260422T112416Z
URL:https://business.fergusfalls.com/events/details/virtual-chamber-ambassador-visits-may-2020-12578
END:VEVENT

END:VCALENDAR
