BEGIN:VCALENDAR
VERSION:2.0
PRODID:-//ChamberMaster//Event Calendar 2.0//EN
METHOD:PUBLISH
X-PUBLISHED-TTL:P3D
REFRESH-INTERVAL:P3D
CALSCALE:GREGORIAN
BEGIN:VEVENT
DTSTART:20200514T123000Z
DTEND:20200514T140000Z
X-MICROSOFT-CDO-ALLDAYEVENT:FALSE
SUMMARY:Virtual Chamber Cafe - Brew Up Business with Fergus Home & Hardware
DESCRIPTION:"Chamber Cafe" is a bi-monthly casual gathering where you will find out what's going on "behind the scenes" in the community.  Bring your own refreshments -- we'll provide the networking. We will have some fun & play Spring-O BINGO for PRIZES!  If you like being "in the know" then be sure to go -- online. A delicious light breakfast will be served (if you cook).  \n\nDownload/Print a BINGO Card:\n\nBINGO V1\n\nBINGO V2\n\nBINGO V3\n\nBINGO V4\n\nBINGO V5 \n\nHosted by Fergus Home & Hardware  \n\nYou will hear brief updates from "Mini guest speakers" including:\n\n	Host: Fergus Home & Hardware -- VIRTUAL Store Tour\n	Clarity Brain Center/Smith Family Chiropractic\, Dr. Ala Smith\n	YMCA\, Eric Price\n	Lake Region Takes Root\, Jason Bergstrand\n	United Way of Otter Tail & Wadena Counties\, Mary Phillipe\n	Cooper's Office Supply\, Shawna Shale\n	The Daily Journal\, Ken Harty\n	Greater Fergus Falls\, NeTia Bauman\n	SERVPRO of Douglas & OT Counties\, Ron Lauer\n	Sign Guys\, Ryan Tungseth\n	Glende Nilson Funeral Home\, Andrew Yaggie\n	Lake Shore Services\, Erin Halvorson\n	Independent Consultant\, Jordan Rasmusson\n	Transit Alternatives/Otter Express\, Daryn Toso\n	Otter Tail Co. Historical Society\, Chris Schuelke\n	Lake Region Healthcare\, Katie Johnson\n\nRegister (it's FREE) and you'll receive the Zoom login via email.
X-ALT-DESC;FMTTYPE=text/html:<span style="font-size: 12px\;"><span style="color: rgb(0\, 0\, 0)\;"><strong>&quot\;Chamber Cafe&quot\; </strong>is a bi-monthly casual gathering where you will find out what&#39\;s going on &quot\;behind the scenes&quot\;&nbsp\;in the community.&nbsp\; Bring your own refreshments -- we&#39\;ll provide the networking. We will have some fun &amp\; play Spring-O BINGO for PRIZES!&nbsp\; If you like being &quot\;in the know&quot\; then be sure to go -- online. A delicious light breakfast will be served (if you cook).&nbsp\;</span><strong><span style="color: rgb(178\, 34\, 34)\;">&nbsp\;</span></strong></span><br />\n<strong style="font-size: 12px\;"><span style="color: rgb(178\, 34\, 34)\;">Download/Print a BINGO Card:<br />\n<a href="https://chambermaster.blob.core.windows.net/userfiles/UserFiles/chambers/314/File/FergusHomeandHardwareSpringBINGOMay2020V1.pdf">BINGO V1</a><br />\n<a href="https://chambermaster.blob.core.windows.net/userfiles/UserFiles/chambers/314/File/FergusHomeandHardwareSpringBINGOMay2020V2.pdf">BINGO V2</a><br />\n<a href="https://chambermaster.blob.core.windows.net/userfiles/UserFiles/chambers/314/File/FergusHomeandHardwareSpringBINGOMay2020V3.pdf">BINGO V3</a><br />\n<a href="https://chambermaster.blob.core.windows.net/userfiles/UserFiles/chambers/314/File/FergusHomeandHardwareSpringBINGOMay2020V4.pdf">BINGO V4</a><br />\n<a href="https://chambermaster.blob.core.windows.net/userfiles/UserFiles/chambers/314/File/FergusHomeandHardwareSpringBINGOMay2020V5.pdf">BINGO V5</a> </span></strong><br />\n<span style="font-size: 12px\;"><strong><span style="color: rgb(178\, 34\, 34)\;"><span style="font-size:16px\;">Hosted by Fergus Home &amp\; Hardware</span></span></strong><span style="font-size:16px\;"><span style="color: rgb(0\, 0\, 255)\;"><em>&nbsp\;&nbsp\;</em></span></span><br />\n<span style="color: rgb(0\, 0\, 0)\;">You&nbsp\;will hear brief updates from &quot\;Mini guest speakers&quot\; including:</span></span>\n<ul>\n	<li><strong><span style="font-size: 12px\;"><span style="color: rgb(0\, 0\, 0)\;">Host: Fergus Home &amp\; Hardware -- VIRTUAL Store Tour</span></span></strong></li>\n	<li><strong><span style="font-size: 12px\;"><span style="color: rgb(0\, 0\, 0)\;">Clarity Brain Center/Smith Family Chiropractic\, Dr. Ala Smith</span></span></strong></li>\n	<li><strong><span style="font-size: 12px\;"><span style="color: rgb(0\, 0\, 0)\;">YMCA\,&nbsp\;</span></span></strong><strong><span style="font-size: 12px\;"><span style="color: rgb(0\, 0\, 0)\;">Eric Price</span></span></strong></li>\n	<li><font color="#000000"><span style="font-size: 12px\;"><b>Lake Region Takes Root\, Jason Bergstrand</b></span></font></li>\n	<li><font color="#000000"><span style="font-size: 12px\;"><b>United Way of Otter Tail &amp\; Wadena Counties\, Mary Phillipe</b></span></font></li>\n	<li><strong><span style="color: rgb(0\, 0\, 0)\;"><span style="font-family: arial\;"><span style="font-size: 12px\;"><span class="attendee-company" title="Humane Society of Otter Tail County">Cooper&#39\;s Office Supply\, Shawna Shale</span></span></span></span></strong></li>\n	<li><strong><span style="color: rgb(0\, 0\, 0)\;"><span style="font-family: arial\;"><span style="font-size: 12px\;"><span class="attendee-company" title="Humane Society of Otter Tail County">The Daily Journal\, Ken Harty</span></span></span></span></strong></li>\n	<li><strong><span style="color: rgb(0\, 0\, 0)\;"><span style="font-family: arial\;"><span style="font-size: 12px\;"><span class="attendee-company" title="Humane Society of Otter Tail County">Greater Fergus Falls\, NeTia Bauman</span></span></span></span></strong></li>\n	<li><strong><span style="color: rgb(0\, 0\, 0)\;"><span style="font-family: arial\;"><span style="font-size: 12px\;"><span class="attendee-company" title="Humane Society of Otter Tail County">SERVPRO of Douglas &amp\; OT Counties\, Ron Lauer</span></span></span></span></strong></li>\n	<li><strong><span style="color: rgb(0\, 0\, 0)\;"><span style="font-family: arial\;"><span style="font-size: 12px\;"><span class="attendee-company" title="Humane Society of Otter Tail County">Sign Guys\, Ryan Tungseth</span></span></span></span></strong></li>\n	<li><strong><span style="color: rgb(0\, 0\, 0)\;"><span style="font-family: arial\;"><span style="font-size: 12px\;"><span class="attendee-company" title="Humane Society of Otter Tail County">Glende Nilson Funeral Home\, Andrew Yaggie</span></span></span></span></strong></li>\n	<li><strong><span style="color: rgb(0\, 0\, 0)\;"><span style="font-family: arial\;"><span style="font-size: 12px\;"><span class="attendee-company" title="Humane Society of Otter Tail County">Lake Shore Services\, Erin Halvorson</span></span></span></span></strong></li>\n	<li><strong><span style="color: rgb(0\, 0\, 0)\;"><span style="font-family: arial\;"><span style="font-size: 12px\;"><span class="attendee-company" title="Humane Society of Otter Tail County">Independent Consultant\, Jordan Rasmusson</span></span></span></span></strong></li>\n	<li><font color="#000000" face="arial"><span style="font-size: 12px\;"><b>Transit Alternatives/Otter Express\, Daryn Toso</b></span></font></li>\n	<li><font color="#000000" face="arial"><span style="font-size: 12px\;"><b>Otter Tail Co. Historical Society\, Chris Schuelke</b></span></font></li>\n	<li><font color="#000000" face="arial"><span style="font-size: 12px\;"><b>Lake Region Healthcare\, Katie Johnson</b></span></font></li>\n</ul>\n<font color="#000000" face="arial"><span style="font-size: 12px\;"><b>Register (it&#39\;s FREE) and you&#39\;ll receive the Zoom login via email.</b></span></font>
LOCATION:ZOOM MEETING -- REGISTER for the LINK Hosted by: Fergus Home & Hardware 1005 N. Tower Rd. Fergus Falls\, MN
UID:e.314.24274
SEQUENCE:3
DTSTAMP:20260422T112647Z
URL:https://business.fergusfalls.com/events/details/virtual-chamber-cafe-brew-up-business-with-fergus-home-hardware-24274
END:VEVENT

END:VCALENDAR
