BEGIN:VCALENDAR
VERSION:2.0
PRODID:-//ChamberMaster//Event Calendar 2.0//EN
METHOD:PUBLISH
X-PUBLISHED-TTL:P3D
REFRESH-INTERVAL:P3D
CALSCALE:GREGORIAN
BEGIN:VEVENT
DTSTART:20200716T123000Z
DTEND:20200716T140000Z
X-MICROSOFT-CDO-ALLDAYEVENT:FALSE
SUMMARY:Virtual Chamber Cafe - Celebrating Everyday Heroes
DESCRIPTION:"Chamber Cafe" is a bi-monthly casual gathering where you will find out what's going on "behind the scenes" in the community. If you like being "in the know" then this is an event you'll want to go. We plan to celebrate our local everyday heroes and share updates on COVID changes in our community.\n\nPour yourself a cup of coffee\, log into Zoom (advance registration) and get connected. Learn to master the "mute/unmute" icon. You're guaranteed to learn a "fun fact" or your money back!\n\n	Guests will do a "lightning round" of introductions. Just tell us who you are & the organization you represent.\n	Find out what's going on at the Fergus Falls Area Chamber of Commerce -- Shop\, Move 'n Groove COVID edition & Shop\, Drop\, Eat 'n Win\n	10-15 Mini Guest Speakers will provide quick updates (3 minutes or less) on their organization including:\n	\n		Lake Region Healthcare - Kent Mattson\n		Otter Tail Telcom/Park Region Telephone - David Pawlowski\n		Fergus Falls Farmers Market - Lynn Brand\n		A Center for the Arts - Michael Burgraff\n		Visit Fergus Falls - Jean Bowman\n		United Way of Otter Tail & Wadena Counties -- Jackie Hendrickson\n		LB Homes -- Amie Welch\n		City of Fergus Falls -- Klara Beck\n		Otter Cove Children's Museum - Tasha Rohlfs\n		Rural MN CEP / Career Force - Clara Wegscheid\n		Fergus Falls Police Department - Kile Bergren\n		Productive Alternatives - Beth Nelson\n		Clean Energy Resource Team (CERT) - Melissa Birch (upcoming Chamber webinar with Otter Tail Power)\n		Otter Tail County Emergency Management (Smart911) - Patrick Waletzko
X-ALT-DESC;FMTTYPE=text/html:<span style="font-family:verdana\;"><span style="font-size: 12px\;"><span style="color: rgb(0\, 0\, 0)\;"><strong>&quot\;Chamber Cafe&quot\; </strong>is a bi-monthly casual gathering where you will find out what&#39\;s going on &quot\;behind the scenes&quot\;&nbsp\;in the community. If you like being &quot\;in the know&quot\; then this is an event you&#39\;ll want to go. We plan to celebrate our local everyday heroes and share updates on COVID changes in our community.</span></span><br />\nPour yourself a cup of coffee\, log into Zoom (advance registration) and get connected. Learn to master the &quot\;mute/unmute&quot\; icon. You&#39\;re guaranteed to learn a &quot\;fun fact&quot\; or your money back!</span>\n<ul>\n	<li><span style="font-family:verdana\;">Guests will do a &quot\;lightning round&quot\; of introductions.&nbsp\;Just tell us who you are &amp\; the organization you represent.</span></li>\n	<li><span style="font-family:verdana\;">Find out what&#39\;s going on at the Fergus Falls Area Chamber of Commerce -- Shop\, Move &#39\;n Groove COVID edition &amp\; Shop\, Drop\, Eat &#39\;n Win</span></li>\n	<li><span style="font-family:verdana\;">10-15 Mini Guest Speakers will provide quick updates (3 minutes or less) on their organization including:</span>\n	<ul>\n		<li><span style="font-family:verdana\;">Lake Region Healthcare - Kent Mattson</span></li>\n		<li><span style="font-family:verdana\;">Otter Tail Telcom/Park Region Telephone - David Pawlowski</span></li>\n		<li><span style="font-family:verdana\;">Fergus Falls Farmers Market - Lynn Brand</span></li>\n		<li><span style="font-family:verdana\;">A Center for the Arts - Michael Burgraff</span></li>\n		<li><span style="font-family:verdana\;">Visit Fergus Falls - Jean Bowman</span></li>\n		<li><span style="font-family:verdana\;">United Way of Otter Tail &amp\; Wadena Counties -- Jackie Hendrickson</span></li>\n		<li><span style="font-family:verdana\;">LB Homes -- Amie Welch</span></li>\n		<li><span style="font-family:verdana\;">City of Fergus Falls -- Klara Beck</span></li>\n		<li><span style="font-family:verdana\;">Otter Cove Children&#39\;s Museum - Tasha Rohlfs</span></li>\n		<li><span style="font-family:verdana\;">Rural MN CEP / Career Force - Clara Wegscheid</span></li>\n		<li><span style="font-family:verdana\;">Fergus Falls Police Department - Kile Bergren</span></li>\n		<li><span style="font-family:verdana\;">Productive Alternatives - Beth Nelson</span></li>\n		<li><span style="font-family:verdana\;">Clean Energy Resource Team (CERT) - Melissa Birch (upcoming Chamber webinar with Otter Tail Power)</span></li>\n		<li><span style="font-family:verdana\;">Otter Tail County Emergency Management (Smart911) - Patrick Waletzko</span></li>\n	</ul>\n	</li>\n</ul>\n
LOCATION:Register online & Zoom link will be emailed.
UID:e.314.24275
SEQUENCE:3
DTSTAMP:20260422T081329Z
URL:https://business.fergusfalls.com/events/details/virtual-chamber-cafe-celebrating-everyday-heroes-24275
END:VEVENT

END:VCALENDAR
