BEGIN:VCALENDAR
VERSION:2.0
PRODID:-//ChamberMaster//Event Calendar 2.0//EN
METHOD:PUBLISH
X-PUBLISHED-TTL:P3D
REFRESH-INTERVAL:P3D
CALSCALE:GREGORIAN
BEGIN:VEVENT
DTSTART:20200503T140000Z
DTEND:20200503T170000Z
X-MICROSOFT-CDO-ALLDAYEVENT:FALSE
SUMMARY:Virtual Walk MS Fergus Falls
DESCRIPTION:
X-ALT-DESC;FMTTYPE=text/html:
LOCATION:
UID:e.314.57339
SEQUENCE:3
DTSTAMP:20260422T112224Z
URL:https://business.fergusfalls.com/events/details/virtual-walk-ms-fergus-falls-57339
END:VEVENT

END:VCALENDAR
