BEGIN:VCALENDAR
VERSION:2.0
PRODID:-//ChamberMaster//Event Calendar 2.0//EN
METHOD:PUBLISH
X-PUBLISHED-TTL:P3D
REFRESH-INTERVAL:P3D
CALSCALE:GREGORIAN
BEGIN:VEVENT
DTSTART:20160413T203000Z
DTEND:20160413T220000Z
X-MICROSOFT-CDO-ALLDAYEVENT:FALSE
SUMMARY:Walk a Mile in Her Shoes
DESCRIPTION:April is Sexual Assault Awareness Month (SAAM) and calls attention to the fact that sexual violence is widespread and impacts the communities in which we live in. Prevention is possible when everyone gets involved. One of the first steps is increasing education\, awareness and community involvement. It?s time for all of us to take action to create a safer environment for all. We invite you to join us to pledge\, donate and participate: 3:30-5:00pm\, Wed.\, April 13th Walk a Mile in Her Shoes  ?RED OUT?\, Fire Place Lounge M State Fergus Falls The International Men?s March to stop rape\, sexual assault & gender violence. Get your ?Red On & Rock It?! This event is geared towards males but everyone is invited to participate as we know that they need our support along the way!
X-ALT-DESC;FMTTYPE=text/html:April is Sexual Assault Awareness Month (SAAM) and calls attention to the fact that sexual violence is widespread and impacts the communities in which we live in. Prevention is possible when everyone gets involved. One of the first steps is increasing education\, awareness and community involvement. It?s time for all of us to take action to create a safer environment for all. We invite you to join us to pledge\, donate and participate: 3:30-5:00pm\, Wed.\, April 13th Walk a Mile in Her Shoes&reg\; ?RED OUT?\, Fire Place Lounge M State Fergus Falls The International Men?s March to stop rape\, sexual assault &amp\; gender violence. Get your ?Red On &amp\; Rock It?! This event is geared towards males but everyone is invited to participate as we know that they need our support along the way!
LOCATION:Fire Lounge M State - Fergus Falls Campus
UID:e.314.32324
SEQUENCE:3
DTSTAMP:20260425T163340Z
URL:https://business.fergusfalls.com/events/details/walk-a-mile-in-her-shoes-04-13-2016-32324
END:VEVENT

END:VCALENDAR
