BEGIN:VCALENDAR
VERSION:2.0
PRODID:-//ChamberMaster//Event Calendar 2.0//EN
METHOD:PUBLISH
X-PUBLISHED-TTL:P3D
REFRESH-INTERVAL:P3D
CALSCALE:GREGORIAN
BEGIN:VEVENT
DTSTART:20180905T183000Z
DTEND:20180905T190000Z
X-MICROSOFT-CDO-ALLDAYEVENT:FALSE
SUMMARY:Walk around Lake Alice
DESCRIPTION:Walking around Lake Alice with A Place to Belong\n\n\n\nWe will be leaving the club at 1:30pm\n\n\n\nA Place to Belong is Social Club for persons with serious mental illness. We provide a safe\, secure & comfortable place for people w/ mental illness to go as they are managing their mental health in a community setting.
X-ALT-DESC;FMTTYPE=text/html:Walking around Lake Alice with A Place to Belong<br />\n<br />\nWe will be leaving the club at 1:30pm<br />\n<br />\nA Place to Belong is Social Club for persons with serious mental illness. We provide a safe\, secure &amp\; comfortable place for people w/ mental illness to go as they are managing their mental health in a community setting.<br />\n&nbsp\;
LOCATION:
UID:e.314.50348
SEQUENCE:3
DTSTAMP:20260423T181106Z
URL:https://business.fergusfalls.com/events/details/walk-around-lake-alice-50348
END:VEVENT

END:VCALENDAR
