BEGIN:VCALENDAR
VERSION:2.0
PRODID:-//ChamberMaster//Event Calendar 2.0//EN
METHOD:PUBLISH
X-PUBLISHED-TTL:P3D
REFRESH-INTERVAL:P3D
CALSCALE:GREGORIAN
BEGIN:VEVENT
DTSTART:20210624T190000Z
DTEND:20210624T230000Z
X-MICROSOFT-CDO-ALLDAYEVENT:FALSE
SUMMARY:Walk In Hiring Event at Home Depot
DESCRIPTION:Come join a winning team at the Fergus Falls Home Depot!\n\nWalk In Hiring Event\n\nMany valuable benefits for employees:\n\n	401k\n	Stock Options\n	Success Sharing Bonuses\n	Tuition Reimbursemetn\n	Advancement Opportunties\n	and more!
X-ALT-DESC;FMTTYPE=text/html:Come join a winning team at the Fergus Falls Home Depot!<br />\nWalk In Hiring Event<br />\nMany valuable benefits for employees:\n<ul>\n	<li>401k</li>\n	<li>Stock Options</li>\n	<li>Success Sharing Bonuses</li>\n	<li>Tuition Reimbursemetn</li>\n	<li>Advancement Opportunties</li>\n	<li>and more!</li>\n</ul>\n
LOCATION:Home Depot Fergus Falls or TEXT "Jobs" to 52270
UID:e.314.62418
SEQUENCE:3
DTSTAMP:20260421T123905Z
URL:https://business.fergusfalls.com/events/details/walk-in-hiring-event-at-home-depot-62418
END:VEVENT

END:VCALENDAR
