BEGIN:VCALENDAR
VERSION:2.0
PRODID:-//ChamberMaster//Event Calendar 2.0//EN
METHOD:PUBLISH
X-PUBLISHED-TTL:P3D
REFRESH-INTERVAL:P3D
CALSCALE:GREGORIAN
BEGIN:VEVENT
DTSTART:20160314T220000Z
DTEND:20160315T010000Z
X-MICROSOFT-CDO-ALLDAYEVENT:FALSE
SUMMARY:Walk MS 2016 - "TIP NIGHT" at Pizza Ranch
DESCRIPTION:Tip Night \n\nJoin Walk MS volunteers at Pizza Ranch in Fergus Falls on Monday\, March 14th 5-8pm. Volunteers will be working for tips and donations will to to Walk MS 2016.
X-ALT-DESC;FMTTYPE=text/html:<strong>Tip Night </strong><br />\nJoin Walk MS volunteers at Pizza Ranch in Fergus Falls on Monday\, March 14th 5-8pm. Volunteers will be working for tips and donations will to to Walk MS 2016.<br />\n&nbsp\;
LOCATION:Pizza Ranch 604 Frontier Drive Fergus Falls
UID:e.314.31833
SEQUENCE:3
DTSTAMP:20260425T182306Z
URL:https://business.fergusfalls.com/events/details/walk-ms-2016-tip-night-at-pizza-ranch-03-14-2016-31833
END:VEVENT

END:VCALENDAR
