BEGIN:VCALENDAR
VERSION:2.0
PRODID:-//ChamberMaster//Event Calendar 2.0//EN
METHOD:PUBLISH
X-PUBLISHED-TTL:P3D
REFRESH-INTERVAL:P3D
CALSCALE:GREGORIAN
BEGIN:VEVENT
DTSTART:20190424T220000Z
DTEND:20190425T010000Z
X-MICROSOFT-CDO-ALLDAYEVENT:FALSE
SUMMARY:Walk MS Awareness Night & Silent Auction
DESCRIPTION:Join Walk MS Volunteers for a night to raise awareness and funds for the MS Society and Walk MS\, Fergus Falls. We will have registrations forms available for Walk MS\, you can make a donation to the event and we will have a silent auction full of great items. If you would like to donate an item (or 2) please contact Kris Wilke or drop it off at the Victor Lundeen Company
X-ALT-DESC;FMTTYPE=text/html:<div class="_63ew" data-testid="event-permalink-details"><span>Join Walk MS Volunteers for a night to raise awareness and funds for the MS Society and Walk MS\, Fergus Falls. We will have registrations forms available for Walk MS\, you can make a donation to the event and we will have a silent auction full of great items. If you would like to donate an item (or 2) please contact Kris Wilke or drop it off at the Victor Lundeen Company</span></div>\n
LOCATION:American Legion Post 30 2010 Pebble Lake Rd\, Fergus Falls
UID:e.314.52782
SEQUENCE:3
DTSTAMP:20260423T075511Z
URL:https://business.fergusfalls.com/events/details/walk-ms-awareness-night-silent-auction-52782
END:VEVENT

END:VCALENDAR
