BEGIN:VCALENDAR
VERSION:2.0
PRODID:-//ChamberMaster//Event Calendar 2.0//EN
METHOD:PUBLISH
X-PUBLISHED-TTL:P3D
REFRESH-INTERVAL:P3D
CALSCALE:GREGORIAN
BEGIN:VEVENT
DTSTART:20160501T140000Z
DTEND:20160501T210000Z
X-MICROSOFT-CDO-ALLDAYEVENT:FALSE
SUMMARY:Walk MS: Christopher & Banks Fergus Falls Walk 2016\, presented by Great River Energy
DESCRIPTION:Walk MS is a charity walk series that takes place in 30 locations across the Upper Midwest Chapter. Walk MS in the Upper Midwest Chapter raises about $2 million annually to help create a world free of multiple sclerosis. Walk MS brings together the passion and determination of anyone who wants to raise funds and give hope to the more than 17\,000 people living with MS in Minnesota\, Iowa\, North Dakota and South Dakota. Funds raised at Walk MS events fuels research and provides life-changing programs. When you participate in Walk MS\, you help us take one more step closer to creating a world free of MS.\nOur walks are one to four miles in distance including an indoor route that is 1/4 mile . If you're interested in finding out more about Walk MS\,  other route options\, or  want to register for an event\, visit WalkMS.org.
X-ALT-DESC;FMTTYPE=text/html:<!--[if gte mso 9]><xml>\n <o:OfficeDocumentSettings>\n  <o:AllowPNG/>\n </o:OfficeDocumentSettings>\n</xml><![endif]-->\n<p class="MsoNormal">Walk MS is a charity walk series that takes place in 30 locations across the Upper Midwest Chapter. Walk MS in the Upper Midwest Chapter raises about $2 million annually to help create a world free of multiple sclerosis. Walk MS brings together the passion and determination of anyone who wants to raise funds and give hope to the more than 17\,000 people living with MS in Minnesota\, Iowa\, North Dakota and South Dakota. Funds raised at Walk MS events fuels research and provides life-changing programs. When you participate in Walk MS\, you help us take one more step closer to creating a world free of MS.</p>\n<span style="line-height: 115%\; font-family: &quot\;Calibri&quot\;\,&quot\;sans-serif&quot\;\; font-size: 11pt\; mso-ascii-theme-font: minor-latin\; mso-fareast-font-family: Calibri\; mso-fareast-theme-font: minor-latin\; mso-hansi-theme-font: minor-latin\; mso-bidi-font-family: &quot\;Times New Roman&quot\;\; mso-bidi-theme-font: minor-bidi\; mso-ansi-language: EN-US\; mso-fareast-language: EN-US\; mso-bidi-language: AR-SA\;">Our walks are one to four miles in distance&nbsp\;including an&nbsp\;indoor route that is 1/4 mile . If you&rsquo\;re interested in finding out more about Walk MS\,&nbsp\; other route options\, or &nbsp\;want to register for an event\, visit WalkMS.org.</span>\n\n<p style="margin: 0in 0in 0pt\;"><span style="font-size: 12px\;"><span style="font-family: &quot\;Bookman Old Style&quot\;\,serif\;"><font color="#000000">&nbsp\;</font></span></span></p>\n
LOCATION:M-State\, Fergus Falls\, 1414 College Way\, Fergus Falls\, MN 56537
UID:e.314.31566
SEQUENCE:3
DTSTAMP:20260425T145909Z
URL:https://business.fergusfalls.com/events/details/walk-ms-christopher-banks-fergus-falls-walk-2016-presented-by-great-river-energy-05-01-2016-31566
END:VEVENT

END:VCALENDAR
