BEGIN:VCALENDAR
VERSION:2.0
PRODID:-//ChamberMaster//Event Calendar 2.0//EN
METHOD:PUBLISH
X-PUBLISHED-TTL:P3D
REFRESH-INTERVAL:P3D
CALSCALE:GREGORIAN
BEGIN:VEVENT
DTSTART:20160409T180000Z
DTEND:20160409T210000Z
X-MICROSOFT-CDO-ALLDAYEVENT:FALSE
SUMMARY:Walk The Edge" Hike with the Glacial Edge Hiking Chapter
DESCRIPTION:Activities: Receive information about the North Country Trail and local Glacial Edge Chapter. Hikes\, short videos and refreshments.
X-ALT-DESC;FMTTYPE=text/html:Activities: Receive information about the North Country Trail and local Glacial Edge Chapter. Hikes\, short videos and refreshments.
LOCATION:Prairie Wetland Learning Center
UID:e.314.32337
SEQUENCE:3
DTSTAMP:20260425T163554Z
URL:https://business.fergusfalls.com/events/details/walk-the-edge-hike-with-the-glacial-edge-hiking-chapter-04-09-2016-32337
END:VEVENT

END:VCALENDAR
