BEGIN:VCALENDAR
VERSION:2.0
PRODID:-//ChamberMaster//Event Calendar 2.0//EN
METHOD:PUBLISH
X-PUBLISHED-TTL:P3D
REFRESH-INTERVAL:P3D
CALSCALE:GREGORIAN
BEGIN:VEVENT
DTSTART:20170116T170000Z
DTEND:20170116T200000Z
X-MICROSOFT-CDO-ALLDAYEVENT:FALSE
SUMMARY:Walk to Broadway!
DESCRIPTION:A Center for the Arts presents\n\nWalk to Broadway! \n\nLeave the Minnesota winter outside as you walk to the great white way.
X-ALT-DESC;FMTTYPE=text/html:A Center for the Arts presents<br />\nWalk to Broadway!&nbsp\;<br />\nLeave the Minnesota winter outside as you walk to the great white way.<br />\n<br />\n&nbsp\;
LOCATION:A Center for the Arts 124 W Lincoln Ave. Fergus Falls MN 56537
UID:e.314.38121
SEQUENCE:3
DTSTAMP:20260425T002820Z
URL:https://business.fergusfalls.com/events/details/walk-to-broadway-01-16-2017-38121
END:VEVENT

END:VCALENDAR
