BEGIN:VCALENDAR
VERSION:2.0
PRODID:-//ChamberMaster//Event Calendar 2.0//EN
METHOD:PUBLISH
X-PUBLISHED-TTL:P3D
REFRESH-INTERVAL:P3D
CALSCALE:GREGORIAN
BEGIN:VEVENT
DTSTART:20160722T233000Z
DTEND:20160723T003000Z
X-MICROSOFT-CDO-ALLDAYEVENT:FALSE
SUMMARY:Walking Tour of Historic Battle Lake Walking Tour
DESCRIPTION:Walking Tour of Historic Battle Lake.\n\nMeet at the Community Center (Former First Lutheran Church).\n\nCost for the tour is $6.\n\n\n\n    What do a prominent Minnesota architect\, a professional wrestler and a United States Presidential candidate have in common? They all have connections to historic buildings in downtown Battle Lake.\n\n    These and many more stories will be revealed during the Otter Tail County Historical Society's Walking Tour of Historic Downtown Battle Lake on Friday\, July 22\, at 6:30 p.m.\n\n    While the tour examines the architecture of downtown buildings\, it goes beyond the bricks and mortar to reveal a lost streets cape filled with stories of businesses\, characters and events.
X-ALT-DESC;FMTTYPE=text/html:Walking Tour of Historic Battle Lake.<br />\nMeet at the Community Center (Former First Lutheran Church).<br />\nCost for the tour is $6.<br />\n<br />\n&nbsp\;&nbsp\;&nbsp\; What do a prominent Minnesota architect\, a professional wrestler and a United States Presidential candidate have in common? They all have connections to historic buildings in downtown Battle Lake.<br />\n&nbsp\;&nbsp\;&nbsp\; These and many more stories will be revealed during the Otter Tail County Historical Society&rsquo\;s Walking Tour of Historic Downtown Battle Lake on Friday\, July 22\, at 6:30 p.m.<br />\n&nbsp\;&nbsp\;&nbsp\; While the tour examines the architecture of downtown buildings\, it goes beyond the bricks and mortar to reveal a lost streets cape filled with stories of businesses\, characters and events.<br />\n&nbsp\;
LOCATION:Lakes Area Community Center\, 112 East Main Street\, Battle Lake\, MN 56515\, United States
UID:e.314.32856
SEQUENCE:3
DTSTAMP:20260425T112613Z
URL:https://business.fergusfalls.com/events/details/walking-tour-of-historic-battle-lake-walking-tour-07-22-2016-32856
END:VEVENT

END:VCALENDAR
