BEGIN:VCALENDAR
VERSION:2.0
PRODID:-//ChamberMaster//Event Calendar 2.0//EN
METHOD:PUBLISH
X-PUBLISHED-TTL:P3D
REFRESH-INTERVAL:P3D
CALSCALE:GREGORIAN
BEGIN:VEVENT
DTSTART:20160709T000000Z
DTEND:20160709T010000Z
X-MICROSOFT-CDO-ALLDAYEVENT:FALSE
SUMMARY:Walking Tour: Stories from the State Hospital
DESCRIPTION:Story Telling Walking Tour led by Chris Schuelke\, Executive Director of the Otter Tail County Historical Society.\n\n     This popular program is not an architectural or facilities tour. It presents the history and legends of this remarkable institution in a story telling format. You will discover why the hospital was such an important institution for over 110 years.\n\n     Fee: $6.00 per person. All proceeds benefit the Otter Tail County Historical Society.\n\n     Park in the Government Services parking lot and walk over to the western most part of the building.
X-ALT-DESC;FMTTYPE=text/html:Story Telling Walking Tour led by Chris Schuelke\, Executive Director of the Otter Tail County Historical Society.<br />\n&nbsp\;&nbsp\;&nbsp\;&nbsp\; This popular program is not an architectural or facilities tour. It presents the history and legends of this remarkable institution in a story telling format. You will discover why the hospital was such an important institution for over 110 years.<br />\n&nbsp\;&nbsp\;&nbsp\;&nbsp\; Fee: $6.00 per person. All proceeds benefit the Otter Tail County Historical Society.<br />\n&nbsp\;&nbsp\;&nbsp\;&nbsp\; Park in the Government Services parking lot and walk over to the western most part of the building.
LOCATION:State Hospital\,1400 Union Avenue N\, (RTC\, Kirkbride) Western most part of the main building
UID:e.314.32853
SEQUENCE:3
DTSTAMP:20260425T112135Z
URL:https://business.fergusfalls.com/events/details/walking-tour-stories-from-the-state-hospital-07-08-2016-32853
END:VEVENT

END:VCALENDAR
