BEGIN:VCALENDAR
VERSION:2.0
PRODID:-//ChamberMaster//Event Calendar 2.0//EN
METHOD:PUBLISH
X-PUBLISHED-TTL:P3D
REFRESH-INTERVAL:P3D
CALSCALE:GREGORIAN
BEGIN:VEVENT
DTSTART:20180309T003000Z
DTEND:20180309T023000Z
X-MICROSOFT-CDO-ALLDAYEVENT:FALSE
SUMMARY:Warehoused: From Refugee Camp to Rural Minnesota
DESCRIPTION:Documentary & Community Conversation\n\nOver 12 million people live in refugee camps. The documentary Warehoused sheds light on the daily life of refugees in Dadaab\, Kenya\, following a man whose family has resettled in Willmar\, MN. Warehoused refers to asylum seekers trapped in border camps for five years or more without the right to work or move freely.\n\n\n\nJoin us to watch the documentary followed by moderated discussion. This event is FREE and open to all.\n\n\n\nThis project was funded in part or in whole with money from Minnesota's Arts and Cultural Heritage fund. It is sponsored by Fergus Falls Public Library and Viking Library System in partnership with the City of Fergus Falls Human Rights Commission and Fergus Area College Foundation.
X-ALT-DESC;FMTTYPE=text/html:<strong>Documentary &amp\; Community Conversation</strong><br />\nOver 12 million people live in refugee camps. The documentary Warehoused sheds light on the daily life of refugees in Dadaab\, Kenya\, following a man whose family has resettled in Willmar\, MN. Warehoused refers to asylum seekers trapped in border camps for five years or more without the right to work or move freely.<br />\n<br />\nJoin us to watch the documentary followed by moderated discussion. This event is FREE and open to all.<br />\n<br />\nThis project was funded in part or in whole with money from Minnesota&rsquo\;s Arts and Cultural Heritage fund. It is sponsored by Fergus Falls Public Library and Viking Library System in partnership with the City of Fergus Falls Human Rights Commission and Fergus Area College Foundation.
LOCATION:Legacy Hall\, Minnesota State Community and Technical College\, 1414 College Way\, Fergus Falls\, MN 56537
UID:e.314.43816
SEQUENCE:3
DTSTAMP:20260424T013253Z
URL:https://business.fergusfalls.com/events/details/warehoused-from-refugee-camp-to-rural-minnesota-43816
END:VEVENT

END:VCALENDAR
