BEGIN:VCALENDAR
VERSION:2.0
PRODID:-//ChamberMaster//Event Calendar 2.0//EN
METHOD:PUBLISH
X-PUBLISHED-TTL:P3D
REFRESH-INTERVAL:P3D
CALSCALE:GREGORIAN
BEGIN:VEVENT
DTSTART:20180523T160000Z
DTEND:20180523T180000Z
X-MICROSOFT-CDO-ALLDAYEVENT:FALSE
SUMMARY:Wash N Go Grand Opening
DESCRIPTION:Our Grand Opening Party is on May 23rd.\n\nFree brats\, burgers\, chips\, coffee\, and Beverages. We will also be having a raffle to give away one of our yearly subscriptions and while you are there don't forget to download the Touch 4 Wash App on your smartphone and get $10 credit on your next wash!
X-ALT-DESC;FMTTYPE=text/html:<div class="_63ew"><span>Our Grand Opening Party is on May 23rd.<br />\nFree brats\, burgers\, chips\, coffee\, and Beverages. We will also be having a raffle to give away one of our yearly subscriptions and while you are there don&rsquo\;t forget to download the Touch 4 Wash App on your smartphone and get $10 credit on your next wash!</span></div>\n
LOCATION:Fergus Wash N Go 1225 N Union Ave
UID:e.314.48876
SEQUENCE:3
DTSTAMP:20260423T235440Z
URL:https://business.fergusfalls.com/events/details/wash-n-go-grand-opening-48876
END:VEVENT

END:VCALENDAR
