BEGIN:VCALENDAR
VERSION:2.0
PRODID:-//ChamberMaster//Event Calendar 2.0//EN
METHOD:PUBLISH
X-PUBLISHED-TTL:P3D
REFRESH-INTERVAL:P3D
CALSCALE:GREGORIAN
BEGIN:VEVENT
DTSTART:20160204T220000Z
DTEND:20160206T050000Z
X-MICROSOFT-CDO-ALLDAYEVENT:FALSE
SUMMARY:WCCO "Goin' to the Frozen Lake" Live RADIO & TV Broadcast
DESCRIPTION:WCCO-Radio & TV will be hitting the frozen lakes again each Thursday and Friday in February and will be in Fergus Falls February 4th-5th. Join us at Mabel Murphy's for a LIVE broadcast of "The Chad Hartman Show" from 12-3pm.\n\n Meet local celebrities\, win WCCO Radio Goin' To The Frozen Lake prizes\, and more!\n\nHere's the schedule:\n\nFeb. 4-5: Fergus Falls\, MN\n\nTV: Frank Vascellaro & Chris Shaffer\n\nRadio: Chad Hartman\n\n\n\nThursday Feb 4th\n\n4:50pm  Lake Alice Skating Rink\n\n7:00pm Mabel Murphy's Restaurant & Irish Pub\n\n10:00pm WCCO TV - Z103 Bar & Grill\n\n\n\nFriday\, Feb 5\n\n12-3pm\, Mabel Murphy's Restaurant & Irish Pub\; LIVE broadcast of "The Chad Hartman Show"\n\n5pm\, American Legion\n\nWCCO Radio's Goin' to the Frozen Lake in Fergus Falls is brought to you locally by the Fergus Falls Area Chamber of Commerce.  http://www.fergusfalls.com/\n\n\n\nMore about Chad Hartman:  His show focuses on top local and national stories that range from the serious to the ridiculous and everything in between.  Hartman takes a look at these stories and goes directly to the heart of them. The Chad Hartman show is heard weekdays on WCCO Radio\, from Noon-3 p.m. Chad is a 1988 graduate of Arizona State. His numerous sports stops include two years in the CBA and a year with the Orlando Twins before coming home to host a sports show on KFAN. He was on KFAN from 1990-2009. Chad was the voice of Minnesota Timberwolves basketball on both radio and TV from 1990-2006. He also did play-by-play with the Minnesota Twins\, Minnesota Vikings\, Gopher Football and Gopher Baseball broadcasts. Chad worked for KARE 11 on numerous sports broadcasts including play-by-play\, regular postgame Vikings shows and Randy Shaver's weekend sports show. Chad started working at WCCO in the fall of 2009.\n\nChad resides in Plymouth and has three boys.
X-ALT-DESC;FMTTYPE=text/html:<p style="margin: 0px 0px 25px\; padding: 0px\; outline: 0px\; border: 0px currentColor\; border-image: none\; color: rgb(0\, 0\, 0)\; line-height: 25.5px\; font-family: Arial\, Helvetica\, sans-serif\; font-size: 17px\; vertical-align: baseline\;">WCCO-Radio &amp\;&nbsp\;TV will be hitting the frozen lakes again each Thursday and Friday in February&nbsp\;and will be in Fergus Falls February 4th-5th. Join us at Mabel Murphy&#39\;s for a LIVE broadcast of &quot\;The Chad Hartman Show&quot\; from 12-3pm.<br />\n<strong style="background: none\; margin: 0px\; padding: 0px\; outline: 0px\; border: 0px currentColor\; border-image: none\; color: rgb(0\, 0\, 0)\; line-height: 25.5px\; font-family: Arial\, Helvetica\, sans-serif\; font-size: 17px\; vertical-align: baseline\;">&nbsp\;Meet local celebrities\, win&nbsp\;WCCO&nbsp\;Radio Goin&rsquo\; To The Frozen Lake prizes\, and more!</strong></p>\n\n<p style="margin: 0px 0px 25px\; padding: 0px\; outline: 0px\; border: 0px currentColor\; border-image: none\; color: rgb(0\, 0\, 0)\; line-height: 25.5px\; font-family: Arial\, Helvetica\, sans-serif\; font-size: 17px\; vertical-align: baseline\;">Here&rsquo\;s the schedule:</p>\n\n<p style="margin: 0px 0px 25px\; padding: 0px\; outline: 0px\; border: 0px currentColor\; border-image: none\; color: rgb(0\, 0\, 0)\; line-height: 25.5px\; font-family: Arial\, Helvetica\, sans-serif\; font-size: 17px\; vertical-align: baseline\;"><strong style="background: none\; margin: 0px\; padding: 0px\; outline: 0px\; border: 0px currentColor\; border-image: none\; vertical-align: baseline\;">Feb. 4-5: Fergus Falls\, MN</strong><br />\nTV: Frank Vascellaro &amp\; Chris Shaffer<br />\nRadio: Chad Hartman<br />\n<br />\n<strong>Thursday&nbsp\;Feb 4th</strong><br />\n4:50pm&nbsp\; Lake Alice Skating Rink<br />\n7:00pm Mabel Murphy&#39\;s Restaurant &amp\; Irish Pub<br />\n10:00pm WCCO TV - Z103 Bar &amp\; Grill<br />\n<br />\n<strong>Friday\, Feb 5</strong><br />\n12-3pm\,&nbsp\;Mabel Murphy&rsquo\;s Restaurant &amp\; Irish Pub\; LIVE broadcast of &quot\;The Chad Hartman Show&quot\;<br />\n5pm\, American Legion</p>\n\n<p style="margin: 0px 0px 25px\; padding: 0px\; outline: 0px\; border: 0px currentColor\; border-image: none\; color: rgb(0\, 0\, 0)\; line-height: 25.5px\; font-family: Arial\, Helvetica\, sans-serif\; font-size: 17px\; vertical-align: baseline\;"><strong style="background: none\; margin: 0px\; padding: 0px\; outline: 0px\; border: 0px currentColor\; border-image: none\; vertical-align: baseline\;">WCCO Radio&rsquo\;s Goin&rsquo\; to the Frozen Lake in Fergus Falls&nbsp\;is brought to you locally by the Fergus Falls Area Chamber of Commerce. &nbsp\;http://www.fergusfalls.com/<br />\n<br />\nMore about Chad Hartman:&nbsp\;</strong><span style="language: en-US\;"><span style="color: black\;"><span style="font-family: arial\;"><span style="font-size: 16pt\;">&nbsp\;<span style="font-size: 11px\;">His show focuses on top local and national stories that range from the serious to the ridiculous and everything in between.&nbsp\; Hartman takes a look at these stories and goes directly to the heart of them.&nbsp\;The Chad Hartman show is heard weekdays on WCCO Radio\, from Noon-3 p.m.&nbsp\;</span></span></span></span></span><span style="font-size: 11px\;"><span style="color: black\;"><span style="font-family: arial\;">Chad is a 1988 graduate of Arizona State. His numerous sports stops include two years in the CBA and a year with the Orlando Twins before coming home to host a sports show on KFAN. He was on KFAN from 1990-2009. Chad was the voice of Minnesota Timberwolves basketball on both radio and TV from 1990-2006. He also did play-by-play with the Minnesota Twins\, Minnesota Vikings\, Gopher Football and Gopher Baseball broadcasts. Chad worked for KARE 11 on numerous sports broadcasts including play-by-play\, regular postgame Vikings shows and Randy Shaver&rsquo\;s weekend sports show. Chad started working at WCCO in the fall of 2009.</span></span><br />\n<span style="color: black\;"><span style="font-family: arial\;">Chad resides in Plymouth and has three boys.</span></span></span><br />\n<br />\n&nbsp\;</p>\n
LOCATION:Chamber Office - 202 South Court Street
UID:e.314.31075
SEQUENCE:3
DTSTAMP:20260425T215835Z
URL:https://business.fergusfalls.com/events/details/wcco-goin-to-the-frozen-lake-live-radio-tv-broadcast-02-04-2016-31075
END:VEVENT

END:VCALENDAR
