BEGIN:VCALENDAR
VERSION:2.0
PRODID:-//ChamberMaster//Event Calendar 2.0//EN
METHOD:PUBLISH
X-PUBLISHED-TTL:P3D
REFRESH-INTERVAL:P3D
CALSCALE:GREGORIAN
BEGIN:VEVENT
DTSTART:20200403T170000Z
DTEND:20200403T180000Z
X-MICROSOFT-CDO-ALLDAYEVENT:FALSE
SUMMARY:Webinar: Create Your Cash Flow Plan to Ride Out the COVID-19 Pandemic
DESCRIPTION:Create Your Cash Flow Plan to Ride Out the COVID-19 Pandemic\n\nJoin Hospitality Minnesota for a webinar featuring David Scott Peters\, restaurant expert and coach\, as he teaches you how to create a 12-week cash flow budget. Since cash is king right now\, this webinar will show you why budgeting is so important and help you answer burning questions\, such as\, "How do I survive?" or "Will I survive?" Peters will show which numbers to use\, and how they've changed based on current circumstances and mandates where applicable. Peters will also provide attendees with access to his Budget Builder MVP spreadsheet\, at no cost. Although the examples provided will feature restaurant businesses\, the principles and lessons learned in this webinar are appropriate for all hospitality businesses.
X-ALT-DESC;FMTTYPE=text/html:<span style="box-sizing: border-box\; font-weight: 600\; color: rgb(35\, 35\, 51)\; font-family: Lato\, Helvetica\, Arial\; font-size: 14px\;">Create Your Cash Flow Plan to Ride Out the COVID-19 Pandemic</span><br />\n<span style="color: rgb(35\, 35\, 51)\; font-family: Lato\, Helvetica\, Arial\; font-size: 14px\;">Join Hospitality Minnesota for a webinar featuring David Scott Peters\, restaurant expert and coach\, as he teaches you how to create a 12-week cash flow budget. Since cash is king right now\, this webinar will show you why budgeting is so important and help you answer burning questions\, such as\, &ldquo\;How do I survive?&rdquo\; or &ldquo\;Will I survive?&rdquo\; Peters will show which numbers to use\, and how they&rsquo\;ve changed based on current circumstances and mandates where applicable. Peters will also provide attendees with access to his Budget Builder MVP spreadsheet\, at no cost. Although the examples provided will feature restaurant businesses\, the principles and lessons learned in this webinar are appropriate for all hospitality businesses.</span>
LOCATION:Register here
UID:e.314.57368
SEQUENCE:3
DTSTAMP:20260422T112707Z
URL:https://business.fergusfalls.com/events/details/webinar-create-your-cash-flow-plan-to-ride-out-the-covid-19-pandemic-57368
END:VEVENT

END:VCALENDAR
