BEGIN:VCALENDAR
VERSION:2.0
PRODID:-//ChamberMaster//Event Calendar 2.0//EN
METHOD:PUBLISH
X-PUBLISHED-TTL:P3D
REFRESH-INTERVAL:P3D
CALSCALE:GREGORIAN
BEGIN:VEVENT
DTSTART:20200501T180000Z
DTEND:20200501T190000Z
X-MICROSOFT-CDO-ALLDAYEVENT:FALSE
SUMMARY:Webinar: How to be a "Rock Star" Remote Worker
DESCRIPTION:Join us via ZOOM for a FREE Webinar "How to Be a ROCK STAR Remote Worker"\n\nFriday\, May 1 at 1:00pm CST\n\npresented by Alison Steinwand\, Fox Consulting\n\n\n\nWorking Remotely? Your Home is Now Your Office!\n\nJoin us for a training seminar for EMPLOYEES who are new to working remotely.\n\nAre you someone who was used to working at home a few hours here and there\, or maybe even a few days a month? Now\, overnight the kitchen table is now your "desk" from 8-5\, you are suddenly overseeing your child's schooling\, and your dog has become your most annoying coworker. You love the fact that you can sleep in and wear your PJ's to work\, but it's not all sunshine and rainbows! This seminar will give you some tips\, tools and best practices for adjusting to remote working.\n\n	How to make yourself an effective remote worker -- make yourself indispensable\n	Create a productive workspace\n	Manage distractions while working from home\n	Set boundaries and expectations\n	Tips on communicating with your manager\, coworkers and clients\n	Advice from remote work pros\n	and more!\n\n\nFREE Webinar - advance registration required. Registration must be completed by 1:00pm on May 1.\n\n"Lunch & Learn" Bring Your Own Lunch -- feel free to enjoy your lunch - just make sure you're "muted"
X-ALT-DESC;FMTTYPE=text/html:<strong><span style="font-family:arial\,sans-serif\;">Join us via ZOOM for a FREE Webinar &quot\;How to Be a ROCK STAR Remote Worker&quot\;<br />\nFriday\, May 1 at 1:00pm CST<br />\npresented by Alison Steinwand\, Fox Consulting</span></strong><br />\n<br />\n<strong><span style="font-family:arial\,sans-serif\;">Working Remotely? Your Home is Now Your Office!<br />\n<em>Join us for a</em></span></strong><em><strong><span style="font-family:arial\,sans-serif\;">&nbsp\;training seminar for EMPLOYEES who are new to working remotely.</span></strong></em><br />\n<span style="font-family:arial\,sans-serif\;">Are you someone who was used to working at home a few hours here and there\, or maybe even a few days a month? Now\, overnight the kitchen table is now your &ldquo\;desk&rdquo\; from 8-5\, you are suddenly overseeing your child&rsquo\;s schooling\, and your dog has become your most annoying coworker. You love the fact that you can sleep in and wear your PJ&rsquo\;s to work\, but it&rsquo\;s not all sunshine and rainbows! This seminar will give you some tips\, tools and best practices for adjusting to remote working.</span>\n<ul>\n	<li><strong><em><span style="font-family:arial\,sans-serif\;">How to make yourself an effective remote worker -- make yourself indispensable</span></em></strong></li>\n	<li><em><span style="font-family:arial\,sans-serif\;">Create a productive workspace</span></em></li>\n	<li><em><span style="font-family:arial\,sans-serif\;">Manage distractions while working from home</span></em></li>\n	<li><em><span style="font-family:arial\,sans-serif\;">Set&nbsp\;boundaries and expectations</span></em></li>\n	<li><em><span style="font-family:arial\,sans-serif\;">Tips on communicating with your manager\, coworkers and clients</span></em></li>\n	<li><em><span style="font-family:arial\,sans-serif\;">Advice from remote work pros</span></em></li>\n	<li><em><span style="font-family:arial\,sans-serif\;">and more!</span></em></li>\n</ul>\n\n<p><em><span style="font-family:arial\,sans-serif\;">FREE Webinar - advance registration required. Registration must be completed by 1:00pm on May 1.</span></em><br />\n<strong>&quot\;Lunch &amp\; Learn&quot\; Bring Your Own Lunch -- feel free to enjoy your lunch - just make sure you&#39\;re &quot\;muted&quot\;</strong></p>\n
LOCATION:Wherever you are working. Zoom link to meeting will be emailed to you after your register.
UID:e.314.57388
SEQUENCE:3
DTSTAMP:20260422T095325Z
URL:https://business.fergusfalls.com/events/details/webinar-how-to-be-a-rock-star-remote-worker-57388
END:VEVENT

END:VCALENDAR
