BEGIN:VCALENDAR
VERSION:2.0
PRODID:-//ChamberMaster//Event Calendar 2.0//EN
METHOD:PUBLISH
X-PUBLISHED-TTL:P3D
REFRESH-INTERVAL:P3D
CALSCALE:GREGORIAN
BEGIN:VEVENT
DTSTART:20200423T190000Z
DTEND:20200423T200000Z
X-MICROSOFT-CDO-ALLDAYEVENT:FALSE
SUMMARY:Webinar: Managing Remote Employees
DESCRIPTION:Join us via ZOOM for a FREE Webinar Thursday\, April 23 @ 2:00pm CST\n\npresented by Alison Steinwand\, Fox Consulting\n\n\n\n"Managing Remote Employees"\n\nA training seminar designed for people who manage remote employees\, supervisors and business owners\n\nTeam meetings are now done by video conference. Office phones have been forwarded to employees' personal cell phones. This seminar will give you some tips and best practices for overseeing remote employees. \n\n	Tools\, strategies\, dos and don'ts for managing remote workers\n	The importance of stablishing rules and practices \n	Common challenges when supervising remote employees\n	Effective communication tools and how to check in with your team regularly\n	How to create a positive work environment and ways to keep employee morale high\n	Managing performance issues and handling disciplinary issues from afar\n	Ways to show employee appreciation\n	Advice from seasoned remote work managers\n	and more!\n\nFREE Webinar - advance registration required. Registration must be completed by 1:30pm on April 23.
X-ALT-DESC;FMTTYPE=text/html:<strong><span style="font-family:arial\,sans-serif\;">Join us via ZOOM for a FREE Webinar Thursday\, April 23 @ 2:00pm CST<br />\npresented by Alison Steinwand\, Fox Consulting<br />\n<br />\n&quot\;Managing Remote Employees&quot\;</span></strong><br />\n<strong><em><span style="font-family:arial\,sans-serif\;">A training seminar designed for people who manage remote employees\, supervisors and business owners</span></em></strong><br />\n<span style="font-family:arial\,sans-serif\;">Team meetings are now done by video conference. Office phones have been forwarded to employees&rsquo\; personal cell phones. This seminar will give you some tips and best practices for overseeing remote employees. </span>\n<ul>\n	<li><em><span style="font-family:arial\,sans-serif\;">Tools\, strategies\, dos and don&rsquo\;ts for managing remote workers</span></em></li>\n	<li><em><span style="font-family:arial\,sans-serif\;">The importance of stablishing rules and practices </span></em></li>\n	<li><em><span style="font-family:arial\,sans-serif\;">Common challenges when supervising remote employees</span></em></li>\n	<li><em><span style="font-family:arial\,sans-serif\;">Effective communication tools and how to check in with your team regularly</span></em></li>\n	<li><em><span style="font-family:arial\,sans-serif\;">How to create a positive work environment and ways to keep employee morale high</span></em></li>\n	<li><em><span style="font-family:arial\,sans-serif\;">Managing performance issues and handling disciplinary issues from afar</span></em></li>\n	<li><em><span style="font-family:arial\,sans-serif\;">Ways to show employee appreciation</span></em></li>\n	<li><em><span style="font-family:arial\,sans-serif\;">Advice from seasoned remote work managers</span></em></li>\n	<li><em><span style="font-family:arial\,sans-serif\;">and more!</span></em></li>\n</ul>\n<em><span style="font-family:arial\,sans-serif\;">FREE Webinar - advance registration required. Registration must be completed by 1:30pm on April 23.</span></em>
LOCATION:Wherever you are working. ZOOM webinar -- link to meeting will be emailed to you after your register.
UID:e.314.57387
SEQUENCE:3
DTSTAMP:20260422T112224Z
URL:https://business.fergusfalls.com/events/details/webinar-managing-remote-employees-57387
END:VEVENT

END:VCALENDAR
