BEGIN:VCALENDAR
VERSION:2.0
PRODID:-//ChamberMaster//Event Calendar 2.0//EN
METHOD:PUBLISH
X-PUBLISHED-TTL:P3D
REFRESH-INTERVAL:P3D
CALSCALE:GREGORIAN
BEGIN:VEVENT
DTSTART:20200327T163000Z
DTEND:20200327T171500Z
X-MICROSOFT-CDO-ALLDAYEVENT:FALSE
SUMMARY:Webinar: Remote Workforce - Ensuring Productivity & Security
DESCRIPTION:Please join us for a FREE Webinar: "Remote Workforce- Ensuring Productivity & Security"\n\nMarch 27 @ 11:30am-12:15pm.\n\nHosted by Fergus Falls Chamber Member Network Center Inc.\n\n\n\nThe focus of the webinar is on: \n\n	Experience in Deploying the Remote Workforce   What we have Heard\, Seen\, and Implemented.\n	Technical Concerns   Multifactor Authentication\, Encryption\, VPN\, Antivirus\, Hardware\n	Security Measures Phishing\, Awareness and Training\, Policies in Place\n	C- Level Involvement- Culture Shift   Security First -Top Down Approach\, C- Level Sponsorship\n\n\nThere will be an opportunity for attendees to ask questions and are encouraged to ask specific questions for their business. You can ask through the CHAT window during the webinar or wait until the end. There is a "raise hand" feature in Webex. \n\n \n\nThis is a FREE 45-minute webinar. Register here: https://www.netcenter.net/remotework_webinar\n\nAttendees will have the chance to ask the Network Center Team questions about their specific business concerns and strategy. \n\nAlso please feel free to email us for additional questions. \n\nBen.Nelson@netcenter.net\, john.mess@netcenter.net\, sean.todd@netcenter.net\n\n\n\nWe will continue to serve\, connect and celebrate our communities and together we will overcome.\n\n\n\nAbout Us: Network Center\, Inc. (NCI) provides cutting-edge technology solutions that can help propel your organization while preparing you for the future. Transform your organization with the help of an experienced IT Solution Provider that has been focused on technology\, networking\, and Security since inception in 1986. Serving 12 states and over 600 customers\, NCI is one of the largest IT solution providers in the Midwest. We specialize in industry specific technology solutions\, service\, support\, cybersecurity and expertise for small to enterprise businesses.
X-ALT-DESC;FMTTYPE=text/html:<strong><em>Please join us for a FREE Webinar: &rdquo\;Remote Workforce- Ensuring Productivity &amp\; Security&rdquo\;<br />\nMarch 27 @ 11:30am-12:15pm.<br />\nHosted by Fergus Falls Chamber Member&nbsp\;</em></strong><strong><em><span style="text-transform:uppercase\;"><span style="color:black\;">Network Center Inc.</span></span></em></strong><br />\n<br />\n<em><span style="color:black\;">The focus of the webinar is on: </span></em>\n<ul>\n	<li style="margin-left:0in\;"><em>Experience in Deploying the Remote Workforce &ndash\; What we have Heard\, Seen\, and Implemented.</em></li>\n	<li style="margin-left:0in\;"><em>Technical Concerns &ndash\; Multifactor Authentication\, Encryption\, VPN\, Antivirus\, Hardware</em></li>\n	<li style="margin-left:0in\;"><em>Security Measures&mdash\;Phishing\, Awareness and Training\, Policies in Place</em></li>\n	<li style="margin-left:0in\;"><em>C- Level Involvement- Culture Shift &ndash\; Security First -Top Down Approach\, C- Level Sponsorship</em></li>\n</ul>\n\n<p><em><span style="color:black\;">There will be an opportunity for attendees to ask questions and are encouraged to ask specific questions for their business. You can ask through the CHAT window during the webinar or wait until the end. There is a &ldquo\;raise hand&rdquo\; feature in Webex.&nbsp\;<br />\n&nbsp\;<br />\n<strong><span style="background-color:#FFFF00\;">This is a FREE 45-minute webinar. Register here:&nbsp\;</span></strong></span></em><strong><a href="https://www.netcenter.net/remotework_webinar"><span style="background-color:#FFFF00\;">https://www.netcenter.net/remotework_webinar</span></a></strong><br />\n<em><span style="color:black\;">Attendees will have the chance to ask the Network Center Team questions about their specific business concerns and strategy. </span></em></p>\n\n<p><em><span style="color:black\;">Also please feel free to email us for additional questions. </span></em><br />\n<em><span style="color:black\;"><a href="mailto:Ben.Nelson@netcenter.net">Ben.Nelson@netcenter.net</a>\, <a href="mailto:john.mess@netcenter.net">john.mess@netcenter.net</a>\, <a href="mailto:sean.todd@netcenter.net">sean.todd@netcenter.net</a><br />\n<br />\nWe will continue to serve\, connect and celebrate our communities and together we will overcome.</span></em><br />\n<br />\n<strong><em><span style="color: black\;">About Us:</span></em></strong><em><span style="color:black\;">&nbsp\;Network Center\, Inc. (NCI) provides cutting-edge technology solutions that can help propel your organization while preparing you for the future. Transform your organization with the help of an experienced IT Solution Provider that has been focused on technology\, networking\, and Security since inception in 1986. Serving 12 states and over 600 customers\, NCI is one of the largest IT solution providers in the Midwest. We specialize in industry specific technology solutions\, service\, support\, cybersecurity and expertise for small to enterprise businesses.</span></em></p>\n
LOCATION:Online -- Register Here: https://www.netcenter.net/remotework_webinar
UID:e.314.57366
SEQUENCE:3
DTSTAMP:20260422T142228Z
URL:https://business.fergusfalls.com/events/details/webinar-remote-workforce-ensuring-productivity-security-57366
END:VEVENT

END:VCALENDAR
