BEGIN:VCALENDAR
VERSION:2.0
PRODID:-//ChamberMaster//Event Calendar 2.0//EN
METHOD:PUBLISH
X-PUBLISHED-TTL:P3D
REFRESH-INTERVAL:P3D
CALSCALE:GREGORIAN
BEGIN:VEVENT
DTSTART:20190119T190000Z
DTEND:20190119T220000Z
X-MICROSOFT-CDO-ALLDAYEVENT:FALSE
SUMMARY:Website Building Workshop with Klara Beck
DESCRIPTION:Follow along as Klara builds an artist website from the ground up\, with tips for purchasing a domain name\, understanding hosting options and SEO\, and choosing the platform that is right for you. Bring your own computer to work along and ask questions in real time.\n\n\n\nWHERE: STUDIO K\n\nWHEN: SATURDAY\, JANUARY 9\, 1 - 4 pm\n\nCOST: $10.00\n\n\n\nREGISTER HERE:\n\nhttps://kaddatzgalleries.org/get-involved/workshops-events/
X-ALT-DESC;FMTTYPE=text/html:<div class="_63ew" data-testid="event-permalink-details"><span>Follow along as Klara builds an artist website from the ground up\, with tips for purchasing a domain name\, understanding hosting options and SEO\, and choosing the platform that is right for you. Bring your own computer to work along and ask questions in real time.<br />\n<br />\nWHERE: STUDIO K<br />\nWHEN: SATURDAY\, JANUARY 9\, 1 - 4 pm<br />\nCOST: $10.00<br />\n<br />\nREGISTER HERE:<br />\n<a data-lynx-mode="hover" data-lynx-uri="https://l.facebook.com/l.php?u=https%3A%2F%2Fkaddatzgalleries.org%2Fget-involved%2Fworkshops-events%2F%3Ffbclid%3DIwAR2VRMsEfo9k3wCcEV46r6j518YDYwOjrBSs2lykErRRd-fEtgDSbAsOYZI&amp\;h=AT0lg7hbExKPkPNC-SXfj-YMHTaFBL4cR6XfHSPPeIABNAodptQd3TZTIVuzXWeg-6DfUkMYugr1aiR-ch21b7R3mbFK4rxAnbVTy49xtifllX-7JBf2U00bo8cpLvrM8g" href="https://kaddatzgalleries.org/get-involved/workshops-events/?fbclid=IwAR2VRMsEfo9k3wCcEV46r6j518YDYwOjrBSs2lykErRRd-fEtgDSbAsOYZI" rel="nofollow" target="_blank"><font color="#0066cc">https://kaddatzgalleries.org/get-involved/workshops-events/</font></a></span></div>\n
LOCATION:Kaddatz Galleries 111 W Lincoln Ave Fergus Falls MN
UID:e.314.52268
SEQUENCE:3
DTSTAMP:20260423T105211Z
URL:https://business.fergusfalls.com/events/details/website-building-workshop-with-klara-beck-52268
END:VEVENT

END:VCALENDAR
