BEGIN:VCALENDAR
VERSION:2.0
PRODID:-//ChamberMaster//Event Calendar 2.0//EN
METHOD:PUBLISH
X-PUBLISHED-TTL:P3D
REFRESH-INTERVAL:P3D
CALSCALE:GREGORIAN
BEGIN:VEVENT
DTSTART:20181215T013000Z
DTEND:20181215T040000Z
X-MICROSOFT-CDO-ALLDAYEVENT:FALSE
SUMMARY:Wendy & Linda: Home for Christmas
DESCRIPTION:Wendy & Linda "Home for Christmas"\n\n\n\nFriday\, December 14\, 2018 7:30 pm\n\n\n\nThere's no place like home for Christmas! Join Wendy Erlandson and Linda Mellon and celebrate the warmth and joy of Christmas on the stage at A Center for the Arts. They'll be serving up holiday favorites old and new alongside their on-stage family: David Stoddard\, Erik Vigesaa\, Jerry Gerhardson\, Wally Warhol and Liv Ronnevik Rogers. The program includes music ranging from country to pop to gospel\, so everyone will find something to like! Share in the joy of the holidays as these locals invite you Home for Christmas! The show is sponsored by Leslie Prishmann Flugstad: Century 21 Vista and New Dimensions Home Health Care
X-ALT-DESC;FMTTYPE=text/html:<span>Wendy &amp\; Linda &quot\;Home for Christmas&quot\;<br />\n<br />\nFriday\, December 14\, 2018 7:30 pm<br />\n<br />\nThere&rsquo\;s no place like home for Christmas! Join Wendy Erlandson and Linda Mellon and celebrate the warmth and joy of Christmas on the stage at A Center for the Arts. They&rsquo\;ll be serving up holiday favorites old and new alongside their on-stage family: David Stoddard\, Erik Vigesaa\, Jerry Gerhardson\, Wally Warhol and Liv Ronnevik Rogers. The program includes music ranging from country to pop to gospel\, so everyone will find something to like! Share in the joy of the holidays as these locals invite you Home for Christmas! The show is sponsored by Leslie Prishmann Flugstad: Century 21 Vista and New Dimensions Home Health Care</span>
LOCATION:A Center for the Arts 124 W Lincoln Ave Fergus Falls MN
UID:e.314.51684
SEQUENCE:3
DTSTAMP:20260423T122226Z
URL:https://business.fergusfalls.com/events/details/wendy-linda-home-for-christmas-51684
END:VEVENT

END:VCALENDAR
