BEGIN:VCALENDAR
VERSION:2.0
PRODID:-//ChamberMaster//Event Calendar 2.0//EN
METHOD:PUBLISH
X-PUBLISHED-TTL:P3D
REFRESH-INTERVAL:P3D
CALSCALE:GREGORIAN
BEGIN:VEVENT
DTSTART:20151212T013000Z
DTEND:20151212T033000Z
X-MICROSOFT-CDO-ALLDAYEVENT:FALSE
SUMMARY:Wendy & Linda Perform @ AC4TA
DESCRIPTION:Local favorites Wendy Erlandson & Linda Mellon are back for their annual show. Tunes range from country to jazz to ballads and more. And there are always a few surprises when these two fun-loving gals get together.
X-ALT-DESC;FMTTYPE=text/html:Local favorites Wendy Erlandson &amp\; Linda Mellon are back for their annual show. Tunes range from country to jazz to ballads and more. And there are always a few surprises when these two fun-loving gals get together.
LOCATION:A Center For the Arts 124 W. Lincoln Ave. Fergus Falls
UID:e.314.27809
SEQUENCE:3
DTSTAMP:20260425T232702Z
URL:https://business.fergusfalls.com/events/details/wendy-linda-perform-ac4ta-12-11-2015-27809
END:VEVENT

END:VCALENDAR
