BEGIN:VCALENDAR
VERSION:2.0
PRODID:-//ChamberMaster//Event Calendar 2.0//EN
METHOD:PUBLISH
X-PUBLISHED-TTL:P3D
REFRESH-INTERVAL:P3D
CALSCALE:GREGORIAN
BEGIN:VEVENT
DTSTART;VALUE=DATE:20160720
DTEND;VALUE=DATE:20160724
TRANSP:TRANSPARENT
X-MICROSOFT-CDO-ALLDAYEVENT:TRUE
SUMMARY:West Otter Tail County Fair
DESCRIPTION:Plan to attend the 2016 West Otter Tail County Fair\, July 20th-23rd\, 2016! Each year\, we promise fun for the entire family. From Grandstand events like Horse Pull\, Pig Races\, and Demo Derby to a host of carnival rides provided by the Mighty Thomas Carnival\, there is something for everyone! The West Otter Tail County Fair also offers plenty of free entertainment each day and lots of things to see from our 4-H'ers. Browse the Children's Barn\, see our 4-H exhibits\, get the kids entered in our annual Pedal Pull. All that and more...plus the best fair food around! Our site will be updated for 2016 as the fair grows closer. Check back for all the information you need or feel free to give us a call if you need more information! We look forward to seeing you at the 2016 West Otter Tail County Fair July 20th-23rd\, 2016!
X-ALT-DESC;FMTTYPE=text/html:Plan to attend the 2016 West Otter Tail County Fair\, July 20th-23rd\, 2016! Each year\, we promise fun for the entire family. From Grandstand events like&nbsp\;Horse Pull\, Pig Races\,&nbsp\;and Demo Derby to a host of carnival rides provided by the Mighty Thomas Carnival\, there is something for everyone! The West Otter Tail County Fair also offers plenty of free entertainment each day and lots of things to see from our 4-H&#39\;ers. Browse the Children&#39\;s Barn\, see our 4-H exhibits\, get the kids entered in our annual Pedal Pull. All that and more...plus the best fair food around! Our site will be updated for 2016 as the fair grows closer. Check back for all the information you need&hellip\;or feel free to give us a call if you need more information! We look forward to seeing you at the 2016 West Otter Tail County Fair July 20th-23rd\, 2016!
LOCATION:1812 Pebble Lake Rd (physical location) PO Box 352 (mailing address) Fergus Falls\, MN 56537 Phone: 218-736-0272 wotcfair@prtel.com
UID:e.314.32512
SEQUENCE:3
DTSTAMP:20260425T110237Z
URL:https://business.fergusfalls.com/events/details/west-otter-tail-county-fair-07-20-2016-32512
END:VEVENT

END:VCALENDAR
