BEGIN:VCALENDAR
VERSION:2.0
PRODID:-//ChamberMaster//Event Calendar 2.0//EN
METHOD:PUBLISH
X-PUBLISHED-TTL:P3D
REFRESH-INTERVAL:P3D
CALSCALE:GREGORIAN
BEGIN:VEVENT
DTSTART;VALUE=DATE:20180718
DTEND;VALUE=DATE:20180722
TRANSP:TRANSPARENT
X-MICROSOFT-CDO-ALLDAYEVENT:TRUE
SUMMARY:West Otter Tail County Fair
DESCRIPTION:WEST OTTER TAIL COUNTY FAIR FUN FOR THE ENTIRE FAMILY!\nJoin us at the West Otter Tail County fair! Our Annual County Fair includes 4-H Project competitions\, the Mighty Thomas Carnival with rides and games\, free entertainment\, Demolition Derby\, Modified Tractor Pull\, and Horse and Pony Pull. New this year\, Modified Pick-up Truck Pull and a Modified Garden Tractor Pull.
X-ALT-DESC;FMTTYPE=text/html:<h1 style="margin: 0px\; padding: 0px 0px 5px\; outline: 0px\; border: 0px currentColor\; border-image: none\; color: rgb(26\, 26\, 26)\; text-transform: none\; line-height: 30px\; text-indent: 0px\; letter-spacing: normal\; font-family: &quot\;Open Sans&quot\;\, sans-serif\; font-size: 30px\; font-style: normal\; font-weight: 400\; word-spacing: 0px\; white-space: normal\; orphans: 2\; widows: 2\; font-variant-ligatures: normal\; font-variant-caps: normal\; -webkit-text-stroke-width: 0px\; text-decoration-style: initial\; text-decoration-color: initial\;">WEST OTTER TAIL COUNTY FAIR&mdash\;FUN FOR THE ENTIRE FAMILY!</h1>\n<span style="color: rgb(26\, 26\, 26)\; text-transform: none\; text-indent: 0px\; letter-spacing: normal\; font-family: &quot\;Open Sans&quot\;\, sans-serif\; font-size: 18px\; font-style: normal\; font-weight: 400\; word-spacing: 0px\; float: none\; display: inline !important\; white-space: normal\; orphans: 2\; widows: 2\; background-color: rgba(255\, 255\, 255\, 0.6)\; font-variant-ligatures: normal\; font-variant-caps: normal\; -webkit-text-stroke-width: 0px\; text-decoration-style: initial\; text-decoration-color: initial\;">Join us at the West Otter Tail County fair! Our Annual County Fair includes 4-H Project competitions\, the Mighty Thomas Carnival with rides and games\, free entertainment\, Demolition Derby\, Modified Tractor Pull\, and Horse and Pony Pull. New this year\, Modified Pick-up Truck Pull and a Modified Garden Tractor Pull.</span>
LOCATION:Fairgrounds are located at: 1812 Pebble Lake Road Fergus Falls\, MN 56537
UID:e.314.50079
SEQUENCE:3
DTSTAMP:20260423T211704Z
URL:https://business.fergusfalls.com/events/details/west-otter-tail-county-fair-50079
END:VEVENT

END:VCALENDAR
